BEGIN:VCALENDAR
VERSION:2.0
PRODID:-//ChamberMaster//Event Calendar 2.0//EN
METHOD:PUBLISH
X-PUBLISHED-TTL:P3D
REFRESH-INTERVAL:P3D
CALSCALE:GREGORIAN
BEGIN:VEVENT
DTSTART:20141108T190000Z
DTEND:20141108T190000Z
X-MICROSOFT-CDO-ALLDAYEVENT:FALSE
SUMMARY:Veteran's Appreciation Day
DESCRIPTION:Fun! Food! Entertainment! Come and join us for a day of appreciation for veterans. Veterans of all ages and the public are invited. Accepting donations for Veteran's Home of CD's\, audio books\,MP3 players\, etc. Mini Carnival Games\, Waffle Love\, Rigatti's Pizza. Utah Honor Flight will be there and live entertainment.
X-ALT-DESC;FMTTYPE=text/html:Fun! Food! Entertainment! Come and join us for a day of appreciation for veterans. Veterans of all ages and the public are invited. Accepting donations for Veteran&#39\;s Home of CD&#39\;s\, audio books\,MP3 players\, etc. Mini Carnival Games\, Waffle Love\, Rigatti&#39\;s Pizza. Utah Honor Flight will be there and live entertainment.
LOCATION:Petersen Medical 2019 E Riverside Drive St. George
UID:e.1117.6197
SEQUENCE:3
DTSTAMP:20260421T025728Z
URL:https://business.stgeorgechamber.com/events/details/veteran-s-appreciation-day-11-08-2014-6197
END:VEVENT

END:VCALENDAR
