BEGIN:VCALENDAR
VERSION:2.0
PRODID:-//ChamberMaster//Event Calendar 2.0//EN
METHOD:PUBLISH
X-PUBLISHED-TTL:P3D
REFRESH-INTERVAL:P3D
CALSCALE:GREGORIAN
BEGIN:VEVENT
DTSTART;VALUE=DATE:20130622
DTEND;VALUE=DATE:20130623
TRANSP:TRANSPARENT
X-MICROSOFT-CDO-ALLDAYEVENT:TRUE
SUMMARY:Utah Trikes Grand opening
DESCRIPTION:Utah Trikes is opening the doors to our newest location in St. George Utah.\n\nCome in for a free test ride\, and FREE Pizza cooked in a mobile Brick oven!
X-ALT-DESC;FMTTYPE=text/html:Utah Trikes is opening the doors to our newest location in St. George Utah.<br />\nCome in for a free test ride\, and FREE Pizza cooked in a mobile Brick oven!
LOCATION:412 East St. George Blvd.
UID:e.1117.4140
SEQUENCE:3
DTSTAMP:20260422T023733Z
URL:https://business.stgeorgechamber.com/events/details/utah-trikes-grand-opening-06-22-2013-4140
END:VEVENT

END:VCALENDAR
