BEGIN:VCALENDAR
VERSION:2.0
PRODID:-//ChamberMaster//Event Calendar 2.0//EN
METHOD:PUBLISH
X-PUBLISHED-TTL:P3D
REFRESH-INTERVAL:P3D
CALSCALE:GREGORIAN
BEGIN:VEVENT
DTSTART:20250326T143000Z
DTEND:20250326T163000Z
X-MICROSOFT-CDO-ALLDAYEVENT:FALSE
SUMMARY:UTAH TECH UNIVERSITY | FREE BUSINESS WORKSHOPS
DESCRIPTION:FREE BUSINESS WORKSHOPS\n\n \n\nHOW TO GET AND KEEP\n\nTHE RIGHT EMPLOYEES\n\n \n\nOPTIMIZE YOUR EMPLOYER BRAND\n\n \n\nWORKSHOP TOPICS\n\n\n	  Powering your employer brand\n	  Segmenting an employee audience\n	  Attracting optimal talent\n	  Developing a talent brand guide
X-ALT-DESC;FMTTYPE=text/html:<p class="p1" style="margin: 0px\; font-variant-numeric: normal\; font-variant-east-asian: normal\; font-variant-alternates: normal\; font-kerning: auto\; font-optical-sizing: auto\; font-feature-settings: normal\; font-variation-settings: normal\; font-variant-position: normal\; font-stretch: normal\; font-size: 12px\; line-height: normal\; font-family: Helvetica\; color: rgb(0\, 0\, 0)\;">&nbsp\;</p>\n\n<p class="p1" style="margin: 0px\; font-variant-numeric: normal\; font-variant-east-asian: normal\; font-variant-alternates: normal\; font-kerning: auto\; font-optical-sizing: auto\; font-feature-settings: normal\; font-variation-settings: normal\; font-variant-position: normal\; font-stretch: normal\; font-size: 12px\; line-height: normal\; font-family: Helvetica\; color: rgb(0\, 0\, 0)\;"><span style="font-size:28px\;"><span style="font-family:arial\;">FREE BUSINESS WORKSHOPS</span></span><br />\n&nbsp\;</p>\n\n<p class="p1" style="margin: 0px\; font-variant-numeric: normal\; font-variant-east-asian: normal\; font-variant-alternates: normal\; font-kerning: auto\; font-optical-sizing: auto\; font-feature-settings: normal\; font-variation-settings: normal\; font-variant-position: normal\; font-stretch: normal\; font-size: 12px\; line-height: normal\; font-family: Helvetica\; color: rgb(0\, 0\, 0)\;"><span style="font-size:28px\;"><span style="font-family:arial\;">HOW TO GET AND KEEP<br />\nTHE RIGHT EMPLOYEES</span></span><br />\n&nbsp\;</p>\n\n<p class="p1" style="margin: 0px\; font-variant-numeric: normal\; font-variant-east-asian: normal\; font-variant-alternates: normal\; font-kerning: auto\; font-optical-sizing: auto\; font-feature-settings: normal\; font-variation-settings: normal\; font-variant-position: normal\; font-stretch: normal\; font-size: 12px\; line-height: normal\; font-family: Helvetica\; color: rgb(0\, 0\, 0)\;"><span style="font-size:28px\;"><span style="font-family:arial\;">OPTIMIZE YOUR EMPLOYER BRAND</span></span><br />\n&nbsp\;</p>\n\n<p class="p1" style="margin: 0px\; font-variant-numeric: normal\; font-variant-east-asian: normal\; font-variant-alternates: normal\; font-kerning: auto\; font-optical-sizing: auto\; font-feature-settings: normal\; font-variation-settings: normal\; font-variant-position: normal\; font-stretch: normal\; font-size: 12px\; line-height: normal\; font-family: Helvetica\; color: rgb(0\, 0\, 0)\;"><span style="font-size:28px\;"><span style="font-family:arial\;">WORKSHOP TOPICS</span></span></p>\n\n<ul class="ul1" style="list-style-type: circle\; color: rgb(0\, 0\, 0)\; font-size: medium\;">\n	<li class="li1" style="margin: 0px\; font-variant-numeric: normal\; font-variant-east-asian: normal\; font-variant-alternates: normal\; font-kerning: auto\; font-optical-sizing: auto\; font-feature-settings: normal\; font-variation-settings: normal\; font-variant-position: normal\; font-stretch: normal\; font-size: 12px\; line-height: normal\; font-family: Helvetica\;"><span style="font-size:28px\;"><span style="font-family:arial\;">&#65279\;&#65279\;Powering your employer brand</span></span></li>\n	<li class="li1" style="margin: 0px\; font-variant-numeric: normal\; font-variant-east-asian: normal\; font-variant-alternates: normal\; font-kerning: auto\; font-optical-sizing: auto\; font-feature-settings: normal\; font-variation-settings: normal\; font-variant-position: normal\; font-stretch: normal\; font-size: 12px\; line-height: normal\; font-family: Helvetica\;"><span style="font-size:28px\;"><span style="font-family:arial\;">&#65279\;&#65279\;Segmenting an employee audience</span></span></li>\n	<li class="li1" style="margin: 0px\; font-variant-numeric: normal\; font-variant-east-asian: normal\; font-variant-alternates: normal\; font-kerning: auto\; font-optical-sizing: auto\; font-feature-settings: normal\; font-variation-settings: normal\; font-variant-position: normal\; font-stretch: normal\; font-size: 12px\; line-height: normal\; font-family: Helvetica\;"><span style="font-size:28px\;"><span style="font-family:arial\;">&#65279\;&#65279\;Attracting optimal talent</span></span></li>\n	<li class="li1" style="margin: 0px\; font-variant-numeric: normal\; font-variant-east-asian: normal\; font-variant-alternates: normal\; font-kerning: auto\; font-optical-sizing: auto\; font-feature-settings: normal\; font-variation-settings: normal\; font-variant-position: normal\; font-stretch: normal\; font-size: 12px\; line-height: normal\; font-family: Helvetica\;"><span style="font-size:28px\;"><span style="font-family:arial\;">&#65279\;&#65279\;Developing a talent brand guide</span></span></li>\n</ul>\n
LOCATION:Atwood Innovation Plaza Utah Tech University Udvar Hazy Idea Room
UID:e.1117.18065
SEQUENCE:3
DTSTAMP:20260421T124940Z
URL:https://business.stgeorgechamber.com/events/details/utah-tech-university-free-business-workshops-18065
END:VEVENT

END:VCALENDAR
