BEGIN:VCALENDAR
VERSION:2.0
PRODID:-//ChamberMaster//Event Calendar 2.0//EN
METHOD:PUBLISH
X-PUBLISHED-TTL:P3D
REFRESH-INTERVAL:P3D
CALSCALE:GREGORIAN
BEGIN:VEVENT
DTSTART:20160514T160000Z
DTEND:20160514T220000Z
X-MICROSOFT-CDO-ALLDAYEVENT:FALSE
SUMMARY:Utah State Chili Cook-Off
DESCRIPTION:Chili/Hot dogs\n\nLive Entertainment\n\nVintage Cars\n\nChildren's Parade\n\nSoap Box Car Races
X-ALT-DESC;FMTTYPE=text/html:Chili/Hot dogs<br />\nLive Entertainment<br />\nVintage Cars<br />\nChildren&#39\;s Parade<br />\nSoap Box Car Races
LOCATION:St. George Town Square
UID:e.1117.8550
SEQUENCE:3
DTSTAMP:20260419T183247Z
URL:https://business.stgeorgechamber.com/events/details/utah-state-chili-cook-off-05-14-2016-8550
END:VEVENT

END:VCALENDAR
