BEGIN:VCALENDAR
VERSION:2.0
PRODID:-//ChamberMaster//Event Calendar 2.0//EN
METHOD:PUBLISH
X-PUBLISHED-TTL:P3D
REFRESH-INTERVAL:P3D
CALSCALE:GREGORIAN
BEGIN:VEVENT
DTSTART:20140702T200000Z
DTEND:20140702T220000Z
X-MICROSOFT-CDO-ALLDAYEVENT:FALSE
SUMMARY:Utah Shakespearean Festival--Sense & Sensibility
DESCRIPTION:Full of repressed passion and soaring emotions\, this world-premiere adaptation of Jane Austen's romantic novel was commissioned especially for Festival audiences. It tells the touching and comic story of the Dashwood sisters who are both looking for true love\, but in very different ways. Elinor is all about using her head\, while Marianne invariably follows her impulsive heart and both their stories have just the right mix of Austen's humor\, romance\, and happy endings.
X-ALT-DESC;FMTTYPE=text/html:<span style="color: rgb(0\, 0\, 0)\; font-family: ProximaNova\, Helvetica\, Arial\, sans-serif\; font-size: 15px\; line-height: 15px\;">Full of repressed passion and soaring emotions\, this world-premiere adaptation of Jane Austen&#39\;s romantic novel was commissioned especially for Festival audiences. It tells the touching and comic story of the Dashwood sisters who are both looking for true love\, but in very different ways. Elinor is all about using her head\, while Marianne invariably follows her impulsive heart&mdash\;and both their stories have just the right mix of Austen&#39\;s humor\, romance\, and happy endings.</span>
LOCATION:Randall L. Jones Theatre 351 W. Center Street Southern Utah University Cedar City\, Utah
UID:e.1117.5315
SEQUENCE:3
DTSTAMP:20260421T071302Z
URL:https://business.stgeorgechamber.com/events/details/utah-shakespearean-festival-sense-sensibility-07-02-2014-5315
END:VEVENT

END:VCALENDAR
