BEGIN:VCALENDAR
VERSION:2.0
PRODID:-//ChamberMaster//Event Calendar 2.0//EN
METHOD:PUBLISH
X-PUBLISHED-TTL:P3D
REFRESH-INTERVAL:P3D
CALSCALE:GREGORIAN
BEGIN:VEVENT
DTSTART:20150924T150000Z
DTEND:20151101T043000Z
X-MICROSOFT-CDO-ALLDAYEVENT:FALSE
SUMMARY:Utah Shakespeare Festival Fall Season
DESCRIPTION:Don't miss the fall season at the Utah Shakespeare Festival! Come see the hilarious farce "Charley's Aunt\," Shakespeare's romantic comedy "The Two Gentlemen of Verona\," and the most infamous vampire "Dracula." 800-PLAYTIX
X-ALT-DESC;FMTTYPE=text/html:Don&#39\;t miss the fall season at the Utah Shakespeare Festival! Come see the hilarious farce &quot\;Charley&#39\;s Aunt\,&quot\; Shakespeare&#39\;s romantic comedy &quot\;The Two Gentlemen of Verona\,&quot\; and the most infamous vampire &quot\;Dracula.&quot\; 800-PLAYTIX
LOCATION:Randall L. Jones Theatre\, near intersection of 300 W. and Center St. Cedar City\, UT
UID:e.1117.7231
SEQUENCE:3
DTSTAMP:20260420T065454Z
URL:https://business.stgeorgechamber.com/events/details/utah-shakespeare-festival-fall-season-09-24-2015-7231
END:VEVENT

END:VCALENDAR
