BEGIN:VCALENDAR
VERSION:2.0
PRODID:-//ChamberMaster//Event Calendar 2.0//EN
METHOD:PUBLISH
X-PUBLISHED-TTL:P3D
REFRESH-INTERVAL:P3D
CALSCALE:GREGORIAN
BEGIN:VEVENT
DTSTART:20141111T220000Z
DTEND:20141112T000000Z
X-MICROSOFT-CDO-ALLDAYEVENT:FALSE
SUMMARY:Utah Safety Council Meeting
DESCRIPTION:Come meet the Utah Safety Council Team as they help you learn how to implement or enhance your current safety program using your member benefits.  The Utah Safety Council provides:\n\n*Occupational Training\n\n    -Mine Safety and Health Training\n\n    -OSHA Compliance\n\n*Traffic\n\n    -Employee Defensive Driving\n\n*Emergency Care\n\n    -First Aid/CPR and AED\n\n    -AED Sales\n\n*Home and Community Safety
X-ALT-DESC;FMTTYPE=text/html:Come meet the Utah Safety Council Team as they help you learn how to implement or enhance your current safety program using your member benefits. &nbsp\;The Utah Safety Council provides:<br />\n*Occupational Training<br />\n&nbsp\; &nbsp\; -Mine Safety and Health Training<br />\n&nbsp\; &nbsp\; -OSHA Compliance<br />\n*Traffic<br />\n&nbsp\; &nbsp\; -Employee Defensive Driving<br />\n*Emergency Care<br />\n&nbsp\; &nbsp\; -First Aid/CPR and AED<br />\n&nbsp\; &nbsp\; -AED Sales<br />\n*Home and Community Safety
LOCATION:
UID:e.1117.6202
SEQUENCE:3
DTSTAMP:20260421T030006Z
URL:https://business.stgeorgechamber.com/events/details/utah-safety-council-meeting-11-11-2014-6202
END:VEVENT

END:VCALENDAR
