BEGIN:VCALENDAR
VERSION:2.0
PRODID:-//ChamberMaster//Event Calendar 2.0//EN
METHOD:PUBLISH
X-PUBLISHED-TTL:P3D
REFRESH-INTERVAL:P3D
CALSCALE:GREGORIAN
BEGIN:VEVENT
DTSTART:20160121T010000Z
DTEND:20160121T030000Z
X-MICROSOFT-CDO-ALLDAYEVENT:FALSE
SUMMARY:Utah Foster Care--Fostering: Challenges & Rewards
DESCRIPTION:What is it like to foster a child?\n\n\n\nHow will it impact my family?  \n\n\n\nHear from foster parents\, teens in foster care adn others!  Bring a friend.  Seating is limited.  In-service credits available.\n\n\n\nChildcare is NOT provided.  \n\n\n\n**This forum is for families who do NOT have experience fostering older children or teens.
X-ALT-DESC;FMTTYPE=text/html:What is it like to foster a child?<br />\n<br />\nHow will it impact my family? &nbsp\;<br />\n<br />\nHear from foster parents\, teens in foster care adn others! &nbsp\;Bring a friend. &nbsp\;Seating is limited. &nbsp\;In-service credits available.<br />\n<br />\nChildcare is NOT provided. &nbsp\;<br />\n<br />\n**This forum is for families who do NOT have experience fostering older children or teens.
LOCATION:The Falls Event Center 170 S. Mall Drive St. George
UID:e.1117.7393
SEQUENCE:3
DTSTAMP:20260420T013241Z
URL:https://business.stgeorgechamber.com/events/details/utah-foster-care-fostering-challenges-rewards-01-20-2016-7393
END:VEVENT

END:VCALENDAR
