BEGIN:VCALENDAR
VERSION:2.0
PRODID:-//ChamberMaster//Event Calendar 2.0//EN
METHOD:PUBLISH
X-PUBLISHED-TTL:P3D
REFRESH-INTERVAL:P3D
CALSCALE:GREGORIAN
BEGIN:VEVENT
DTSTART;VALUE=DATE:20151030
DTEND;VALUE=DATE:20151031
TRANSP:TRANSPARENT
X-MICROSOFT-CDO-ALLDAYEVENT:TRUE
SUMMARY:Utah Building Industry Conference
DESCRIPTION:Southern Utah Home Builders Association (SUHBA) is pleased to announce the 10th Annual Utah Building Industry Conference on October 30th sponsored by Bank of Utah and Golf Tournament sponsored by the Utah Home Builders Association at SunRiver Golf Club on October 29th.  Nationally acclaimed economist Elliot Eisenberg will be the Breakfast Keynote\, and highly sought-after author and speaker Hyrum Smith will be the Luncheon Keynote. Attend the conference for as little as $25 using reimbursements and discounts (this includes breakfast\, lunch and all break-out sessions). Exhibitor opportunities are also available to showcase your product or service to builders from around the state of Utah.
X-ALT-DESC;FMTTYPE=text/html:Southern Utah Home Builders Association (SUHBA) is pleased to announce the 10<sup>th</sup> Annual Utah Building Industry Conference on October 30<sup>th</sup> sponsored by Bank of Utah and Golf Tournament sponsored by the Utah Home Builders Association at SunRiver Golf Club on October 29<sup>th</sup>. &nbsp\;Nationally acclaimed economist Elliot Eisenberg will be the Breakfast Keynote\, and highly sought-after author and speaker Hyrum Smith will be the Luncheon Keynote. Attend the conference for as little as $25 using reimbursements and discounts (this includes breakfast\, lunch and all break-out sessions). Exhibitor opportunities are also available to showcase your product or service to builders from around the state of Utah.&nbsp\;
LOCATION:Dixie Convention Center
UID:e.1117.7116
SEQUENCE:3
DTSTAMP:20260420T065052Z
URL:https://business.stgeorgechamber.com/events/details/utah-building-industry-conference-10-30-2015-7116
END:VEVENT

END:VCALENDAR
