BEGIN:VCALENDAR
VERSION:2.0
PRODID:-//ChamberMaster//Event Calendar 2.0//EN
METHOD:PUBLISH
X-PUBLISHED-TTL:P3D
REFRESH-INTERVAL:P3D
CALSCALE:GREGORIAN
BEGIN:VEVENT
DTSTART:20140429T010000Z
DTEND:20140429T020000Z
X-MICROSOFT-CDO-ALLDAYEVENT:FALSE
SUMMARY:USAF Golden West Winds Concert
DESCRIPTION:The US Air Force Band of the Golden West presents a FREE concert in St. George\, Utah\, by the Golden West Winds woodwind quintet. This family-friendly event will take place at the Opera House\, 47 East 200 North\, on Monday April 28th at 7 PM. Free tickets are available at the Art Museum next to the Opera House
X-ALT-DESC;FMTTYPE=text/html:The US Air Force Band of the Golden West presents a FREE concert in St. George\, Utah\, by the Golden West Winds woodwind quintet. This family-friendly event will take place at the Opera House\, 47 East 200 North\, on Monday April 28th at 7 PM. Free tickets are available at the Art Museum next to the Opera House
LOCATION:St. George Opera House 47 East 200 North St. George\, UT 84770
UID:e.1117.5196
SEQUENCE:3
DTSTAMP:20260421T112452Z
URL:https://business.stgeorgechamber.com/events/details/usaf-golden-west-winds-concert-04-28-2014-5196
END:VEVENT

END:VCALENDAR
