BEGIN:VCALENDAR
VERSION:2.0
PRODID:-//ChamberMaster//Event Calendar 2.0//EN
METHOD:PUBLISH
X-PUBLISHED-TTL:P3D
REFRESH-INTERVAL:P3D
CALSCALE:GREGORIAN
BEGIN:VEVENT
DTSTART:20151208T010000Z
DTEND:20151208T030000Z
X-MICROSOFT-CDO-ALLDAYEVENT:FALSE
SUMMARY:Uniworld River Cruise Seminar
DESCRIPTION:Learn about the difference in river cruising with Uniworld Boutique River Cruises in Europe and Asia.  Receive special offers and enjoy refreshments from the European Christmas Markets.  Plus\, take advantage of our $300 shipboard credit offer on any river cruise booked by the end of the year.
X-ALT-DESC;FMTTYPE=text/html:<span style="color:#000000\;"><span style="font-size:14px\;"><span style="font-family:arial\;">Learn about the difference in river cruising with Uniworld Boutique River Cruises in Europe and Asia.&nbsp\; Receive special offers and enjoy refreshments from the European Christmas Markets. &nbsp\;Plus\, take advantage of our $300 shipboard credit offer on any river cruise booked by the end of the year. &nbsp\;</span></span></span>
LOCATION:Courtyard by Marriott 185 S. 1470 E. St. George
UID:e.1117.7376
SEQUENCE:3
DTSTAMP:20260420T031223Z
URL:https://business.stgeorgechamber.com/events/details/uniworld-river-cruise-seminar-12-07-2015-7376
END:VEVENT

END:VCALENDAR
