BEGIN:VCALENDAR
VERSION:2.0
PRODID:-//ChamberMaster//Event Calendar 2.0//EN
METHOD:PUBLISH
X-PUBLISHED-TTL:P3D
REFRESH-INTERVAL:P3D
CALSCALE:GREGORIAN
BEGIN:VEVENT
DTSTART:20150520T180000Z
DTEND:20150520T190000Z
X-MICROSOFT-CDO-ALLDAYEVENT:FALSE
SUMMARY:University of Utah MBA Programs Information Luncheon
DESCRIPTION:The University of Utah offers weekend\, online and full-time MBA program options for Southern Utah residents looking to earn a nationally-ranked MBA degree. Join us for lunch and a presentation and Q&A session to learn more. For more details and to RSVP\, visit www.southernutahmba.com.
X-ALT-DESC;FMTTYPE=text/html:The University of Utah offers weekend\, online and full-time MBA program options for Southern Utah residents looking to earn a nationally-ranked MBA degree. Join us for lunch and a presentation and Q&amp\;A session to learn more. For more details and to RSVP\, visit www.southernutahmba.com.
LOCATION:The Painted Pony Restaurant 2 W St. George Boulevard St. George\, UT 84770
UID:e.1117.6456
SEQUENCE:3
DTSTAMP:20260420T173014Z
URL:https://business.stgeorgechamber.com/events/details/university-of-utah-mba-programs-information-luncheon-05-20-2015-6456
END:VEVENT

END:VCALENDAR
