BEGIN:VCALENDAR
VERSION:2.0
PRODID:-//ChamberMaster//Event Calendar 2.0//EN
METHOD:PUBLISH
X-PUBLISHED-TTL:P3D
REFRESH-INTERVAL:P3D
CALSCALE:GREGORIAN
BEGIN:VEVENT
DTSTART:20150521T130000Z
DTEND:20150521T150000Z
X-MICROSOFT-CDO-ALLDAYEVENT:FALSE
SUMMARY:University of Utah MBA Programs Breakfast With Advisors
DESCRIPTION:The University of Utah offers weekend\, online and full-time MBA program options for Southern Utah residents looking to earn a nationally-ranked MBA degree. Drop by for breakfast and meet one-on-one with our admissions advisors to learn more and get your questions answered. For more details and to RSVP\, visit www.southernutahmba.com.
X-ALT-DESC;FMTTYPE=text/html:The University of Utah offers weekend\, online and full-time MBA program options for Southern Utah residents looking to earn a nationally-ranked MBA degree. Drop by for breakfast and meet one-on-one with our admissions advisors to learn more and get your questions answered. For more details and to RSVP\, visit www.southernutahmba.com.
LOCATION:Kneaders Cafe 199 North Bluff Street St. George\, UT 84770
UID:e.1117.6458
SEQUENCE:3
DTSTAMP:20260420T172914Z
URL:https://business.stgeorgechamber.com/events/details/university-of-utah-mba-programs-breakfast-with-advisors-05-21-2015-6458
END:VEVENT

END:VCALENDAR
