BEGIN:VCALENDAR
VERSION:2.0
PRODID:-//ChamberMaster//Event Calendar 2.0//EN
METHOD:PUBLISH
X-PUBLISHED-TTL:P3D
REFRESH-INTERVAL:P3D
CALSCALE:GREGORIAN
BEGIN:VEVENT
DTSTART:20140615T020000Z
DTEND:20140615T040000Z
X-MICROSOFT-CDO-ALLDAYEVENT:FALSE
SUMMARY:Twilight Concert Series Featuring The Lawn Darts
DESCRIPTION:
X-ALT-DESC;FMTTYPE=text/html:
LOCATION:Tanner Amphitheater Springdale\, Utah
UID:e.1117.5300
SEQUENCE:3
DTSTAMP:20260423T085337Z
URL:https://business.stgeorgechamber.com/events/details/twilight-concert-series-featuring-the-lawn-darts-06-14-2014-5300
END:VEVENT

END:VCALENDAR
