BEGIN:VCALENDAR
VERSION:2.0
PRODID:-//ChamberMaster//Event Calendar 2.0//EN
METHOD:PUBLISH
X-PUBLISHED-TTL:P3D
REFRESH-INTERVAL:P3D
CALSCALE:GREGORIAN
BEGIN:VEVENT
DTSTART:20140525T020000Z
DTEND:20140525T040000Z
X-MICROSOFT-CDO-ALLDAYEVENT:FALSE
SUMMARY:Twilight Concert Series Featuring Red Desert Ramblers
DESCRIPTION:he Red Desert Ramblers play Bluegrass\, Classic Country and Swing music blending harmonies with smoking instrumental breaks.\n\nThe Salt Lake Tribune says "when it comes to locally produced bluegrass bands\, it's hard to do better."\n\nThey have been honored by the International Bluegrass Music Association by being the first Utah Band (and Sharon is the first hammered dulcimer player) to EVER be hired for an IBMA performance and were the only bluegrass band featured at the Mountain West Conference of the Arts. Members have won several awards including Sharon as best Utah dulcimer player and Rick Martinez as best banjo player for IAMA.\n\nThey are a regional band with national recognition and members hail from Salt Lake\, and Summit counties representing the best of Utah.
X-ALT-DESC;FMTTYPE=text/html:<p style="color: rgb(0\, 0\, 0)\; font-family: Tahoma\, Geneva\, sans-serif\; font-size: medium\; line-height: normal\;">he Red Desert Ramblers play Bluegrass\, Classic Country and Swing music blending harmonies with smoking instrumental breaks.</p>\n\n<p style="color: rgb(0\, 0\, 0)\; font-family: Tahoma\, Geneva\, sans-serif\; font-size: medium\; line-height: normal\;">The Salt Lake Tribune says &quot\;when it comes to locally produced bluegrass bands\, it&#39\;s hard to do better.&quot\;</p>\n\n<p style="color: rgb(0\, 0\, 0)\; font-family: Tahoma\, Geneva\, sans-serif\; font-size: medium\; line-height: normal\;">They have been honored by the International Bluegrass Music Association by being the first Utah Band (and Sharon is the first hammered dulcimer player) to EVER be hired for an IBMA performance and were the only bluegrass band featured at the Mountain West Conference of the Arts. Members have won several awards including Sharon as best Utah dulcimer player and Rick Martinez as best banjo player for IAMA.</p>\n\n<p style="color: rgb(0\, 0\, 0)\; font-family: Tahoma\, Geneva\, sans-serif\; font-size: medium\; line-height: normal\;">They are a regional band with national recognition and members hail from Salt Lake\, and Summit counties representing the best of Utah.</p>\n
LOCATION:Tanner Amphitheater Springdale\, Utah
UID:e.1117.5211
SEQUENCE:3
DTSTAMP:20260421T095935Z
URL:https://business.stgeorgechamber.com/events/details/twilight-concert-series-featuring-red-desert-ramblers-05-24-2014-5211
END:VEVENT

END:VCALENDAR
