BEGIN:VCALENDAR
VERSION:2.0
PRODID:-//ChamberMaster//Event Calendar 2.0//EN
METHOD:PUBLISH
X-PUBLISHED-TTL:P3D
REFRESH-INTERVAL:P3D
CALSCALE:GREGORIAN
BEGIN:VEVENT
DTSTART:20140803T013000Z
DTEND:20140803T040000Z
X-MICROSOFT-CDO-ALLDAYEVENT:FALSE
SUMMARY:Twilight Concert Series Featuring Randy Anderson
DESCRIPTION:Love to dance?  Love country music?  Lace up your boots and prepare to tear up the dance floor at the OC Tanner Amphitheater Saturday night\, August 2nd.  Randy Anderson is back with his hugely popular\, energetic and swinging show. There will be dancing in the pit\, good food and music all evening.  Summer concerts don't get any better! The nights cool off and the scenery can't be beat. \n\nIt is said that one of the best ways to forget about your troubles is to let go and line dance - expressly to music by Randy.  The band plays and sings country-western with an easy swing and an irresistible toe-tappin' rhythm. Fans are invited to dance the night away or just sit back and relish in the music.  Humor is always a part of the evening so come prepared to have a great time under the stars.\n\nAccording to Randy\, "It started with the Kentucky Fried Chicken" when he entered the KFC Songwriting Contest with his original "I've Got a Thing for You."  He took runner up out of over 40\,000 songs submitted by professional and amateur songwriters.\n\nBased in Las Vegas\, Nevada\, The Randy Anderson Band has worked in almost every Hotel/Casino in town\, including Caesars Palace\, Excalibur\, Frontier\, Aladdin\, Gold Coast\, Sam's Town\, Arizona Charlie's and many others.  Randy has also worked with\, or opened shows for: Kevin Sharp\, Reba McEntire\, Restless Heart\, Waylon Jennings\, Hal Ketcham\, Ty Herndon\, Michelle Wright\, The Bellamy Brothers\, LeRoy Parnell\, Lari White\, Boots Randolph\, Booker T. Washington\, The Sweethearts of the Rodeo\, T. Graham Brown\, Conway Twitty\, Williams and Ree\, and Moe Bandy.\n\nIn addition to their touring schedule\, Randy's band has performed for many worthwhile charities such as: St. Jude's\, Make a Wish Foundation\, Jerry Lewis's Muscular Dystrophy Telethon and Reach Out.\n\nMillions of people have seen Randy on television. He has performed several times on cable channels such as TNN and CMT.\n\nRandy Anderson's videos and recordings have been played all over the world\, many of them receiving national industry accolades.
X-ALT-DESC;FMTTYPE=text/html:<p style="color: rgb(0\, 0\, 0)\; font-family: Tahoma\, Geneva\, sans-serif\; font-size: medium\; line-height: normal\;"><span style="color:black\;"><span style="font-family:cambria\,serif\;"><span style="font-size:12.0pt\;">Love to dance?&nbsp\; Love country music?&nbsp\; Lace up your boots and prepare to tear up the dance floor at the OC Tanner Amphitheater Saturday night\, August 2nd.&nbsp\; Randy Anderson is back with his hugely popular\, energetic and swinging show. There will be dancing in the pit\, good food and music all evening. &nbsp\;Summer concerts don&rsquo\;t get any better! The nights cool off and the scenery can&#39\;t be beat. </span></span></span><br />\n<span style="color:black\;"><span style="font-family:cambria\,serif\;"><span style="font-size:12.0pt\;">It is said that one of the best ways to forget about your troubles is to let go and line dance - expressly to music by Randy. &nbsp\;The band plays and sings country-western with an easy swing and an irresistible toe-tappin&#39\; rhythm. Fans are invited to dance the night away or just sit back and relish in the music. &nbsp\;Humor is always a part of the evening so come prepared to have a great time under the stars.</span></span></span><br />\n<span style="color:black\;"><span style="font-family:calibri\,sans-serif\;"><span style="font-size:12.0pt\;">According to Randy\, &ldquo\;It started with the Kentucky Fried Chicken&rdquo\; when he entered the KFC Songwriting Contest with his original &ldquo\;I&rsquo\;ve Got a Thing for You.&rdquo\; &nbsp\;He took runner up out of over 40\,000 songs submitted by professional and amateur songwriters.</span></span></span><br />\n<span style="color:black\;"><span style="font-family:calibri\,sans-serif\;"><span style="font-size:12.0pt\;">Based in Las Vegas\, Nevada\, The Randy Anderson Band has worked in almost every Hotel/Casino in town\, including Caesars Palace\, Excalibur\, Frontier\, Aladdin\, Gold Coast\, Sam&#39\;s Town\, Arizona Charlie&rsquo\;s and many others.&nbsp\; Randy has also worked with\, or opened shows for: Kevin Sharp\, Reba McEntire\, Restless Heart\, Waylon Jennings\, Hal Ketcham\, Ty Herndon\, Michelle Wright\, The Bellamy Brothers\, LeRoy Parnell\, Lari White\, Boots Randolph\, Booker T. Washington\, The Sweethearts of the Rodeo\, T. Graham Brown\, Conway Twitty\, Williams and Ree\, and Moe Bandy.</span></span></span><br />\n<span style="color:black\;"><span style="font-family:calibri\,sans-serif\;"><span style="font-size:12.0pt\;">In addition to their touring schedule\, Randy&rsquo\;s band has performed for many worthwhile charities such as: St. Jude&#39\;s\, Make a Wish Foundation\, Jerry Lewis&rsquo\;s Muscular Dystrophy Telethon and Reach Out.</span></span></span><br />\n<span style="color:black\;"><span style="font-family:calibri\,sans-serif\;"><span style="font-size:12.0pt\;">Millions of people have seen Randy on television. He has performed several times on cable channels such as TNN and CMT.</span></span></span><br />\n<span style="color:black\;"><span style="font-family:calibri\,sans-serif\;"><span style="font-size:12.0pt\;">Randy Anderson&rsquo\;s videos and recordings have been played all over the world\, many of them receiving national industry accolades.</span></span></span></p>\n
LOCATION:Tanner Amphitheater Springdale\, Utah
UID:e.1117.5310
SEQUENCE:3
DTSTAMP:20260421T070341Z
URL:https://business.stgeorgechamber.com/events/details/twilight-concert-series-featuring-randy-anderson-08-02-2014-5310
END:VEVENT

END:VCALENDAR
