BEGIN:VCALENDAR
VERSION:2.0
PRODID:-//ChamberMaster//Event Calendar 2.0//EN
METHOD:PUBLISH
X-PUBLISHED-TTL:P3D
REFRESH-INTERVAL:P3D
CALSCALE:GREGORIAN
BEGIN:VEVENT
DTSTART:20140613T020000Z
DTEND:20140613T040000Z
X-MICROSOFT-CDO-ALLDAYEVENT:FALSE
SUMMARY:Twilight Concert Series Featuring Phoenix Boys Choir
DESCRIPTION:Founded in 1947\, the Phoenix Boys Choir has programs featuring training in voice\, music theory\, and performance for boys age 7 to 14. \n\n \n\nMembers of the Phoenix Boys Choir have performed for 4 United States Presidents and with entertainers such as Doc Severinsen\, Stevie Wonder\, and Keith Lockhart conducting the Boston Pops Orchestra. \n\n \n\nThe Artistic Staff of the Phoenix Boys Choir shares nearly 150 years of music education experience. Artistic Director\, Georg Stangelberger\, boasts over twenty years experience in conducting and formerly served as Deputy Artistic Director for the esteemed Vienna Boys Choir in Austria. \n\n \n\nBeginning with the Training Choir\, boys can progress to Cadet\, Town and Tour choirs\, and upon graduation\, participate in the Master's Choir. When the boys reach the performance levels of Town and Tour Choir\, they have the opportunity to travel nationally and internationally.
X-ALT-DESC;FMTTYPE=text/html:<p style="color: rgb(0\, 0\, 0)\; font-family: Tahoma\, Geneva\, sans-serif\; font-size: medium\; line-height: normal\;"><span style="font-size:14px\;"><span style="font-family:arial\;">Founded in 1947\, the&nbsp\;<strong>Phoenix Boys Choir</strong>&nbsp\;has programs featuring training in voice\, music theory\, and performance for boys age 7 to 14.&nbsp\;<br />\n&nbsp\;<br />\nMembers of the Phoenix Boys Choir have performed for 4 United States Presidents and with entertainers such as Doc Severinsen\, Stevie Wonder\, and Keith Lockhart conducting the Boston Pops Orchestra.&nbsp\;<br />\n&nbsp\;<br />\nThe Artistic Staff of the Phoenix Boys Choir shares nearly 150 years of music education experience. Artistic Director\, Georg Stangelberger\, boasts over twenty years experience in conducting and formerly served as Deputy Artistic Director for the esteemed Vienna Boys Choir in Austria.&nbsp\;<br />\n&nbsp\;<br />\nBeginning with the Training Choir\, boys can progress to Cadet\, Town and Tour choirs\, and upon graduation\, participate in the Master&rsquo\;s Choir. When the boys reach the performance levels of Town and Tour Choir\, they have the opportunity to travel nationally and internationally.&nbsp\;</span></span></p>\n
LOCATION:Tanner Amphitheater Springdale\, Utah
UID:e.1117.5299
SEQUENCE:3
DTSTAMP:20260423T085248Z
URL:https://business.stgeorgechamber.com/events/details/twilight-concert-series-featuring-phoenix-boys-choir-06-12-2014-5299
END:VEVENT

END:VCALENDAR
