BEGIN:VCALENDAR
VERSION:2.0
PRODID:-//ChamberMaster//Event Calendar 2.0//EN
METHOD:PUBLISH
X-PUBLISHED-TTL:P3D
REFRESH-INTERVAL:P3D
CALSCALE:GREGORIAN
BEGIN:VEVENT
DTSTART:20140831T020000Z
DTEND:20140831T040000Z
X-MICROSOFT-CDO-ALLDAYEVENT:FALSE
SUMMARY:Twilight Concert Series Featuring Classic Country Band
DESCRIPTION:Classic country with a mix of 50's and 60's rock & roll.\n\nClassic Country Band is the one of Southern Utah's favorite local groups.\n\nFrank Melton on rhythm guitar and vocals\, Scott Emmett on lead guitar and vocals\, Garn Hunnington on bass\, Charlie Mikkelson on drums and Sue Melton on vocals.
X-ALT-DESC;FMTTYPE=text/html:<p style="color: rgb(0\, 0\, 0)\; font-family: Tahoma\, Geneva\, sans-serif\; font-size: medium\; line-height: normal\;"><span style="font-size:14px\;"><span style="font-family:arial\;">Classic country with a mix of 50&#39\;s and 60&#39\;s rock &amp\; roll.</span></span></p>\n\n<p style="color: rgb(0\, 0\, 0)\; font-family: Tahoma\, Geneva\, sans-serif\; font-size: medium\; line-height: normal\;"><span style="font-size:14px\;"><span style="font-family:arial\;">Classic Country Band is the one of Southern Utah&#39\;s favorite local groups.</span></span></p>\n\n<p style="color: rgb(0\, 0\, 0)\; font-family: Tahoma\, Geneva\, sans-serif\; font-size: medium\; line-height: normal\;"><span style="font-size:14px\;"><span style="font-family:arial\;">Frank Melton on rhythm guitar and vocals\, Scott Emmett on lead guitar and vocals\, Garn Hunnington on bass\, Charlie Mikkelson on drums and Sue Melton on vocals.</span></span></p>\n
LOCATION:Tanner Amphitheater Springdale\, Utah
UID:e.1117.6044
SEQUENCE:3
DTSTAMP:20260421T055457Z
URL:https://business.stgeorgechamber.com/events/details/twilight-concert-series-featuring-classic-country-band-08-30-2014-6044
END:VEVENT

END:VCALENDAR
