BEGIN:VCALENDAR
VERSION:2.0
PRODID:-//ChamberMaster//Event Calendar 2.0//EN
METHOD:PUBLISH
X-PUBLISHED-TTL:P3D
REFRESH-INTERVAL:P3D
CALSCALE:GREGORIAN
BEGIN:VEVENT
DTSTART:20140824T020000Z
DTEND:20140824T040000Z
X-MICROSOFT-CDO-ALLDAYEVENT:FALSE
SUMMARY:Twilight Concert Series Featuring Brodie Perry and The Voce Company
DESCRIPTION:Saturday\, August 23\, 2014\, Brodie Perry will take the Tanner Amphitheater stage to present an awe-inspiring repertoire of musical masterpieces as he performs "Broadway Under the Stars". The performance will feature a special guest appearance by The Voce Company. The Voce Company is an auditioned performing company under Brodie's direction. Members of The Voce Company include performers such as\, Mikalene Ipson\, Jadon Webster\, Angie Bradshaw and Heather Oram to name a few.\n\nOne of Southern Utah's brightest stars\, Brodie Perry is a professional performer\, actor\, vocalist and voice instructor. His live performances and ability to connect with audiences continue to garner him widespread acclaim. He has performed with the Utah Festival Opera\, Starlight Civic Light Opera in San Diego\, Utah State Opera Theater\, Crystal Cathedral in Garden Grove\, CA and Tuacahn as well as other performance venues. This past spring he appeared as Jean Valjean in Signature Productions "Les Miserables" in Las Vegas. He will be returning to Las Vegas on November 16th in a new musical presentation titled\, "House of the Lord" at the Smith Center for the Performing Arts\, where he will perform the role of Brigham Young. Brodie will later be collaborating with his wife\, Kerry\, in the St. George Musical Theater production of "Dirty Rotten Scoundrels" which opens January 15th.\n\nBrodie is originally from the Bay Area but moved to Southern Utah in the mid 1990's. It was at Pine View High School that his passion for music began to take shape. Eventually\, Perry found a mentor in renowned singer Michael Ballam. He went on to study vocal technique under scholarship with Seth Riggs in Hollywood\, an opportunity that has shaped his professional career. Later\, under the guidance and instruction of Jeffrey Skouson in Las Vegas\, Brodie furthered his personal and professional studies. Brodie is currently a Certified Advanced Instructor with the Institute for Vocal Advancement with local\, national\, and international voice students.\n\nAs a performer\, Brodie fuses his unmatched vocal talent with his passionate stage presence. As a teacher\, he has guided countless local singers as they develop into professionals. Mikalene Ipson\, local recording artist and student of Brodie says\, " he is so knowledgeable about the voice\, I learn so much every lesson."
X-ALT-DESC;FMTTYPE=text/html:<p style="color: rgb(0\, 0\, 0)\; font-family: Tahoma\, Geneva\, sans-serif\; font-size: medium\; line-height: normal\;"><span style="font-size:14px\;"><span style="font-family:arial\;">Saturday\, August 23\, 2014\, Brodie Perry will take the Tanner Amphitheater stage to present an awe-inspiring repertoire of musical masterpieces as he performs &ldquo\;Broadway Under the Stars&rdquo\;. The performance will feature a special guest appearance by The Voce Company. The Voce Company is an auditioned performing company under Brodie&rsquo\;s direction. Members of The Voce Company include performers such as\, Mikalene Ipson\, Jadon Webster\, Angie Bradshaw and Heather Oram to name a few.</span></span></p>\n\n<p style="color: rgb(0\, 0\, 0)\; font-family: Tahoma\, Geneva\, sans-serif\; font-size: medium\; line-height: normal\;"><span style="font-size:14px\;"><span style="font-family:arial\;">One of Southern Utah&rsquo\;s brightest stars\, Brodie Perry is a professional performer\, actor\, vocalist and voice instructor. His live performances and ability to connect with audiences continue to garner him widespread acclaim. He has performed with the Utah Festival Opera\, Starlight Civic Light Opera in San Diego\, Utah State Opera Theater\, Crystal Cathedral in Garden Grove\, CA and Tuacahn as well as other performance venues. This past spring he appeared as Jean Valjean in Signature Productions &quot\;Les Miserables&quot\; in Las Vegas. He will be returning to Las Vegas on November 16th in a new musical presentation titled\, &quot\;House of the Lord&rdquo\; at the Smith Center for the Performing Arts\, where he will perform the role of Brigham Young. Brodie will later be collaborating with his wife\, Kerry\, in the St. George Musical Theater production of &quot\;Dirty Rotten Scoundrels&quot\; which opens January 15th.</span></span></p>\n\n<p style="color: rgb(0\, 0\, 0)\; font-family: Tahoma\, Geneva\, sans-serif\; font-size: medium\; line-height: normal\;"><span style="font-size:14px\;"><span style="font-family:arial\;">Brodie is originally from the Bay Area but moved to Southern Utah in the mid 1990&rsquo\;s. It was at Pine View High School that his passion for music began to take shape. Eventually\, Perry found a mentor in renowned singer Michael Ballam. He went on to study vocal technique under scholarship with Seth Riggs in Hollywood\, an opportunity that has shaped his professional career. Later\, under the guidance and instruction of Jeffrey Skouson in Las Vegas\, Brodie furthered his personal and professional studies. Brodie is currently a Certified Advanced Instructor with the Institute for Vocal Advancement with local\, national\, and international voice students.</span></span></p>\n\n<p style="color: rgb(0\, 0\, 0)\; font-family: Tahoma\, Geneva\, sans-serif\; font-size: medium\; line-height: normal\;"><span style="font-size:14px\;"><span style="font-family:arial\;">As a performer\, Brodie fuses his unmatched vocal talent with his passionate stage presence. As a teacher\, he has guided countless local singers as they develop into professionals. Mikalene Ipson\, local recording artist and student of Brodie says\, &ldquo\;&hellip\;he is so knowledgeable about the voice\, I learn so much every lesson.&ldquo\;</span></span></p>\n
LOCATION:Tanner Amphitheater Springdale\, Utah
UID:e.1117.6043
SEQUENCE:3
DTSTAMP:20260421T055844Z
URL:https://business.stgeorgechamber.com/events/details/twilight-concert-series-featuring-brodie-perry-and-the-voce-company-08-23-2014-6043
END:VEVENT

END:VCALENDAR
