BEGIN:VCALENDAR
VERSION:2.0
PRODID:-//ChamberMaster//Event Calendar 2.0//EN
METHOD:PUBLISH
X-PUBLISHED-TTL:P3D
REFRESH-INTERVAL:P3D
CALSCALE:GREGORIAN
BEGIN:VEVENT
DTSTART:20140629T020000Z
DTEND:20140629T040000Z
X-MICROSOFT-CDO-ALLDAYEVENT:FALSE
SUMMARY:Twilight Concert Series Featuring Arvel Bird
DESCRIPTION:"Braveheart Meets Last of the Mohicans . . . at Woodstock" is a colorful description of this award-winning Celtic Fusion recording artist and his live performances. Arvel Bird\, a Celtic violinist and Native American flutist\, is known around the world for his dramatic connection between the two traditions. His music evokes the soul of North American history and is thoroughly entertaining\, but also enlightening and humanizing. In a language and experience that captures the hearts of all audiences\, he's emotional without being condescending\, intellectual without being pretentious.
X-ALT-DESC;FMTTYPE=text/html:<p style="color: rgb(0\, 0\, 0)\; font-family: Tahoma\, Geneva\, sans-serif\; font-size: medium\; line-height: normal\;"><span style="color: rgb(0\, 0\, 0)\; font-family: Tahoma\, Geneva\, sans-serif\; font-size: medium\; line-height: normal\;">&quot\;Braveheart Meets Last of the Mohicans . . . at Woodstock&quot\; is a colorful description of this award-winning Celtic Fusion recording artist and his live performances. Arvel Bird\, a Celtic violinist and Native American flutist\, is known around the world for his dramatic connection between the two traditions. His music evokes the soul of North American history and is thoroughly entertaining\, but also enlightening and humanizing. In a language and experience that captures the hearts of all audiences\, he&#39\;s emotional without being condescending\, intellectual without being pretentious.</span></p>\n
LOCATION:Tanner Amphitheater Springdale\, Utah
UID:e.1117.5307
SEQUENCE:3
DTSTAMP:20260423T085133Z
URL:https://business.stgeorgechamber.com/events/details/twilight-concert-series-featuring-arvel-bird-06-28-2014-5307
END:VEVENT

END:VCALENDAR
