BEGIN:VCALENDAR
VERSION:2.0
PRODID:-//ChamberMaster//Event Calendar 2.0//EN
METHOD:PUBLISH
X-PUBLISHED-TTL:P3D
REFRESH-INTERVAL:P3D
CALSCALE:GREGORIAN
BEGIN:VEVENT
DTSTART:20140906T150000Z
DTEND:20140906T190000Z
X-MICROSOFT-CDO-ALLDAYEVENT:FALSE
SUMMARY:Tuacahn Saturday Market--Polynesian Festival
DESCRIPTION:Patrons will be able to stroll along the tree lined walkway next to the running water feature and browse the displays by local painters\, artists and crafters. Food\, including seasonal fruits and vegetables will be available for purchase including weekly co-op baskets with all your favorite fresh fruits & vegetables.\nTuacahns' Plaza is just the place from 9:00am to 11:00am to purchase a pancake breakfast with bacon and juice for the whole family with an abundance of tables nearby or bring a blanket and have a picnic on the grass. Many vendors have a diversity of food for purchase all during the market hours to accommodate hungry shoppers.\nTuacahn is already a well known place for live music and professional theatre and now is well known for Tuacahn' Saturday Market. It is one more way that those who want to experience more of Tuacahn can enjoy its' wonderful surroundings in an outdoor market in the canyon featuring local artwork\, crafts\, food and entertainment.\n\n\nTuacahn Center for the Arts is a non-profit 501(c)(3) organization.
X-ALT-DESC;FMTTYPE=text/html:<div id="showsMain">\n<div id="showsAbout">Patrons will be able to stroll along the tree lined walkway next to the running water feature and browse the displays by local painters\, artists and crafters. Food\, including seasonal fruits and vegetables will be available for purchase including weekly co-op baskets with all your favorite fresh fruits &amp\; vegetables.\n<p>Tuacahns&#39\; Plaza is just the place from 9:00am to 11:00am to purchase a pancake breakfast with bacon and juice for the whole family with an abundance of tables nearby or bring a blanket and have a picnic on the grass. Many vendors have a diversity of food for purchase all during the market hours to accommodate hungry shoppers.</p>\nTuacahn is already a well known place for live music and professional theatre and now is well known for Tuacahn&#39\; Saturday Market. It is one more way that those who want to experience more of Tuacahn can enjoy its&#39\; wonderful surroundings in an outdoor market in the canyon featuring local artwork\, crafts\, food and entertainment.</div>\n</div>\n\n<p>Tuacahn Center for the Arts is a non-profit 501(c)(3) organization.</p>\n
LOCATION:1100 Tuacahn Drive Ivins\, Utah
UID:e.1117.5161
SEQUENCE:3
DTSTAMP:20260421T043714Z
URL:https://business.stgeorgechamber.com/events/details/tuacahn-saturday-market-polynesian-festival-09-06-2014-5161
END:VEVENT

END:VCALENDAR
