BEGIN:VCALENDAR
VERSION:2.0
PRODID:-//ChamberMaster//Event Calendar 2.0//EN
METHOD:PUBLISH
X-PUBLISHED-TTL:P3D
REFRESH-INTERVAL:P3D
CALSCALE:GREGORIAN
BEGIN:VEVENT
DTSTART:20141213T160000Z
DTEND:20141213T200000Z
X-MICROSOFT-CDO-ALLDAYEVENT:FALSE
SUMMARY:Tuacahn Saturday Market
DESCRIPTION:The Tuacahn Saturday Market is currently running and will continue to be your preferred entertainment\, food and fun every Saturday all year. You'll find something new and different every Saturday morning at Tuacahn.\n\nThe hours are from 9:00am to 1:00pm. Admission and entertainment is free. Patrons will be able to stroll along the tree lined walkway next to the running water feature and browse the displays by local painters\, artists and crafters. Food is also available for purchase.\n\nFrom 9:00am to 11:00am shoppers may purchase a pancake breakfast with bacon and juice for the whole family with an abundance of tables nearby or bring a blanket and have a picnic on the grass. Many vendors have a diversity of food for purchase all during the market hours to accommodate hungry shoppers.\n\nTuacahn is already a well known place for live music and professional theatre and now is well known for Tuacahn' Saturday Market. It is one more way that those who want to experience more of Tuacahn can enjoy its wonderful surroundings in an outdoor market in the canyon featuring local artwork\, crafts\, food and entertainment.\n\nSaturday Market is a great opportunity for people looking for something fun to do on a Saturday morning and for crafters who want to earn additional income in the current economic climate. This will become a fun tradition in St. George for locals and visitors alike. Make this your tradition for the whole family.
X-ALT-DESC;FMTTYPE=text/html:<div id="showsMain">\n<div id="showsAbout">The Tuacahn Saturday Market is currently running and will continue to be your preferred entertainment\, food and fun every Saturday all year. You&#39\;ll find something new and different every Saturday morning at Tuacahn.<br />\nThe hours are from 9:00am to 1:00pm. Admission and entertainment is free. Patrons will be able to stroll along the tree lined walkway next to the running water feature and browse the displays by local painters\, artists and crafters. Food is also available for purchase.<br />\nFrom 9:00am to 11:00am shoppers may purchase a pancake breakfast with bacon and juice for the whole family with an abundance of tables nearby or bring a blanket and have a picnic on the grass. Many vendors have a diversity of food for purchase all during the market hours to accommodate hungry shoppers.<br />\nTuacahn is already a well known place for live music and professional theatre and now is well known for Tuacahn&#39\; Saturday Market. It is one more way that those who want to experience more of Tuacahn can enjoy its wonderful surroundings in an outdoor market in the canyon featuring local artwork\, crafts\, food and entertainment.<br />\nSaturday Market is a great opportunity for people looking for something fun to do on a Saturday morning and for crafters who want to earn additional income in the current economic climate. This will become a fun tradition in St. George for locals and visitors alike. Make this your tradition for the whole family.</div>\n</div>\n
LOCATION:1100 Tuacahn Drive Ivins\, Utah
UID:e.1117.5175
SEQUENCE:3
DTSTAMP:20260420T234722Z
URL:https://business.stgeorgechamber.com/events/details/tuacahn-saturday-market-12-13-2014-5175
END:VEVENT

END:VCALENDAR
