BEGIN:VCALENDAR
VERSION:2.0
PRODID:-//ChamberMaster//Event Calendar 2.0//EN
METHOD:PUBLISH
X-PUBLISHED-TTL:P3D
REFRESH-INTERVAL:P3D
CALSCALE:GREGORIAN
BEGIN:VEVENT
DTSTART:20160319T013000Z
DTEND:20160319T030000Z
X-MICROSOFT-CDO-ALLDAYEVENT:FALSE
SUMMARY:Tuacahn: One Night of Queen
DESCRIPTION:This will be their 9th consecutive tour of the States\, something which has become an annual event on the touring calendar\, that everyone really looks forward to. The tour will start in California\, and will take in such states as Utah\, Colorado\, Illinois\, Iowa\, Texas & Florida\, to name a few. To check out the new exciting show for 2016\, get your tickets NOW!
X-ALT-DESC;FMTTYPE=text/html:This will be their 9th consecutive tour of the States\, something which has become an annual event on the touring calendar\, that everyone really looks forward to. The tour will start in California\, and will take in such states as Utah\, Colorado\, Illinois\, Iowa\, Texas &amp\; Florida\, to name a few. To check out the new exciting show for 2016\, get your tickets NOW!
LOCATION:Tuacahn Amhitheatre 1100 Tuacahn Drive Ivins\, UT
UID:e.1117.7396
SEQUENCE:3
DTSTAMP:20260419T215758Z
URL:https://business.stgeorgechamber.com/events/details/tuacahn-one-night-of-queen-03-18-2016-7396
END:VEVENT

END:VCALENDAR
