BEGIN:VCALENDAR
VERSION:2.0
PRODID:-//ChamberMaster//Event Calendar 2.0//EN
METHOD:PUBLISH
X-PUBLISHED-TTL:P3D
REFRESH-INTERVAL:P3D
CALSCALE:GREGORIAN
BEGIN:VEVENT
DTSTART;VALUE=DATE:20140301
DTEND;VALUE=DATE:20140302
TRANSP:TRANSPARENT
X-MICROSOFT-CDO-ALLDAYEVENT:TRUE
SUMMARY:Tropical Smoothie Cafe of Utah 1 Year Anniversary Celebration!
DESCRIPTION:Every menu item is 50%\, all day Saturday!\n\n\n\nA year ago today\, we here at Tropical Smoothie Caf  set out to provide our Utah communities a healthy alternative to fast food by opening our first store in St. George. In that first year we have opened a second location in Cedar City and have plans for a third location in the works. \n\n\n\nLocally owned and operated\, we knew we would do well but the response has been nothing short of amazing! Please accept our heartfelt gratitude for such a warm welcome by stopping in today for 50% off our entire menu at both our St. George and Cedar locations! If you have a friend or family member that hasn't visited us yet - please bring them in!
X-ALT-DESC;FMTTYPE=text/html:Every menu item is 50%\, all day Saturday!<br />\n<br />\nA year ago today\, we here at Tropical Smoothie Caf&eacute\; set out to provide our Utah communities a healthy alternative to fast food by opening our first store in St. George. In that first year we have opened a second location in Cedar City and have plans for a third location in the works.&nbsp\;<br />\n<br />\nLocally owned and operated\, we knew we would do well but the response has been nothing short of amazing! Please accept our heartfelt gratitude for such a warm welcome by stopping in today for 50% off our entire menu at both our St. George and Cedar locations! If you have a friend or family member that hasn&rsquo\;t visited us yet - please bring them in!&nbsp\;
LOCATION:1010 East Red Hills Parkway St George\, UT 84770
UID:e.1117.5104
SEQUENCE:3
DTSTAMP:20260421T130202Z
URL:https://business.stgeorgechamber.com/events/details/tropical-smoothie-cafe-of-utah-1-year-anniversary-celebration-03-01-2014-5104
END:VEVENT

END:VCALENDAR
