BEGIN:VCALENDAR
VERSION:2.0
PRODID:-//ChamberMaster//Event Calendar 2.0//EN
METHOD:PUBLISH
X-PUBLISHED-TTL:P3D
REFRESH-INTERVAL:P3D
CALSCALE:GREGORIAN
BEGIN:VEVENT
DTSTART:20130403T000000Z
DTEND:20130403T050000Z
X-MICROSOFT-CDO-ALLDAYEVENT:FALSE
SUMMARY:Trivia Night at the Pub
DESCRIPTION:Come out and join us for a fun night of trivia!  Bring your team of 2 - 4 and compete for great prizes!
X-ALT-DESC;FMTTYPE=text/html:Come out and join us for a fun night of trivia!&nbsp\; Bring your team of 2 - 4 and compete for great prizes!
LOCATION:Claim Jumper Steak House\, Bluff Street
UID:e.1117.2676
SEQUENCE:3
DTSTAMP:20260422T061404Z
URL:https://business.stgeorgechamber.com/events/details/trivia-night-at-the-pub-04-02-2013-2676
END:VEVENT

END:VCALENDAR
