BEGIN:VCALENDAR
VERSION:2.0
PRODID:-//ChamberMaster//Event Calendar 2.0//EN
METHOD:PUBLISH
X-PUBLISHED-TTL:P3D
REFRESH-INTERVAL:P3D
CALSCALE:GREGORIAN
BEGIN:VEVENT
DTSTART:20140328T010000Z
DTEND:20140328T023000Z
X-MICROSOFT-CDO-ALLDAYEVENT:FALSE
SUMMARY:Traveling Shoe
DESCRIPTION:Dixie State University Cultural Arts Presents "Traveling Shoes: A One-woman Show" by Janice Brooks. Depicting 8 women of history\, this 90-minute performance celebrates National Women's History Month and inspires audiences of all ages. March 27\, DSU Eccles Concert Hall\, 7 p.m.\, one night only. Tickets now on sale at the Dixie State University Box Office\, or online at dsutix.com. Creatively designed and performed by Brooks to bring the wisdom and wit of Utah Slave matrons Biddy Mason and Jane Manning to life\, as well as the courage and diligence of historical heroines like Harriet Tubman\, Sojourner Truth\, Buffalo Solider Cathay Williams\, and Rosa Parks. Produced by Chase Nichter. A resilient reenactment.
X-ALT-DESC;FMTTYPE=text/html:Dixie State University Cultural Arts Presents &quot\;Traveling Shoes: A One-woman Show&quot\; by Janice Brooks. Depicting 8 women of history\, this 90-minute performance celebrates National Women&#39\;s History Month and inspires audiences of all ages. March 27\, DSU Eccles Concert Hall\, 7 p.m.\, one night only. Tickets now on sale at the Dixie State University Box Office\, or online at dsutix.com. Creatively designed and performed by Brooks to bring the wisdom and wit of Utah Slave matrons Biddy Mason and Jane Manning to life\, as well as the courage and diligence of historical heroines like Harriet Tubman\, Sojourner Truth\, Buffalo Solider Cathay Williams\, and Rosa Parks. Produced by Chase Nichter. A resilient reenactment.
LOCATION:Eccles Cultural Hall
UID:e.1117.5111
SEQUENCE:3
DTSTAMP:20260421T125544Z
URL:https://business.stgeorgechamber.com/events/details/traveling-shoe-03-27-2014-5111
END:VEVENT

END:VCALENDAR
