BEGIN:VCALENDAR
VERSION:2.0
PRODID:-//ChamberMaster//Event Calendar 2.0//EN
METHOD:PUBLISH
X-PUBLISHED-TTL:P3D
REFRESH-INTERVAL:P3D
CALSCALE:GREGORIAN
BEGIN:VEVENT
DTSTART:20151116T140000Z
DTEND:20151116T153000Z
X-MICROSOFT-CDO-ALLDAYEVENT:FALSE
SUMMARY:Toastmasters International
DESCRIPTION:Dixie Tub Thumpers is an established well organized club of Toastmasters International.  Members are excited to improve their public speaking skills and assist new members to quickly excel as speakers and leaders. Please feel free to join us any Monday morning and you will wonder why you didn't join this group before.
X-ALT-DESC;FMTTYPE=text/html:<span style="color: rgb(0\, 102\, 153)\;"><strong>Dixie Tub Thumpers</strong> </span>is an established well organized club of Toastmasters International.&nbsp\; Members are excited to improve their public speaking skills&nbsp\;and assist new members to&nbsp\;quickly&nbsp\;excel as speakers and leaders. Please feel free to join us any Monday morning and you will wonder why you didn&#39\;t join this group before.
LOCATION:Wagon Wheel Restaurant on 290 East and St. George Blvd St. George\, UT
UID:e.1117.503
SEQUENCE:3
DTSTAMP:20260420T050857Z
URL:https://business.stgeorgechamber.com/events/details/toastmasters-international-11-16-2015-503
END:VEVENT

END:VCALENDAR
