BEGIN:VCALENDAR
VERSION:2.0
PRODID:-//ChamberMaster//Event Calendar 2.0//EN
METHOD:PUBLISH
X-PUBLISHED-TTL:P3D
REFRESH-INTERVAL:P3D
CALSCALE:GREGORIAN
BEGIN:VEVENT
DTSTART:20130406T133000Z
DTEND:20130406T160000Z
X-MICROSOFT-CDO-ALLDAYEVENT:FALSE
SUMMARY:TLC Annual Run 4 Kids
DESCRIPTION:Nothing is more beautiful than a spring morning in Dixie. The 13th annual Run 4 Kids race will be held in Coral Canyon\, with the 1K fun run begining at 7:30 a.m. Prizes and awards for all children that participate. 5K and 10K will begin at 8 a.m. Awards will be 3 deep in all age divisions for male and female. Come enjoy an event for the whole family. This year we are proud to be a St. George Marathon runner series qualifier.\n\n	Run 4 Kids 1k\, 5k and 10k\n\n	100% of the proceeds will be donated to the Learning Center for Families: A non-profit agency in Washington County that provides support for educational services for families of vulnerable children\, ages birth to 3\, with significant challenges to their health and deveopment.\n\n	Additional Information\n\n	No day of race registration. No day of race packet pickup. To reserve your spot and guarantee a shirt\, sign up by April 1st. This year we are pleased to offer tech t-shirts in adult and youth sizes.
X-ALT-DESC;FMTTYPE=text/html:<p>\n	Nothing is more beautiful than a spring morning in Dixie. The 13th annual Run 4 Kids race will be held in Coral Canyon\, with the 1K fun run begining at 7:30 a.m. Prizes and awards for all children that participate. 5K and 10K will begin at 8 a.m. Awards will be 3 deep in all age divisions for male and female. Come enjoy an event for the whole family. This year we are proud to be a St. George Marathon runner series qualifier.</p>\n<p>\n	<b>Run 4 Kids 1k\, 5k and 10k</b><br />\n	100% of the proceeds will be donated to the Learning Center for Families: A non-profit agency in Washington County that provides support for educational services for families of vulnerable children\, ages birth to 3\, with significant challenges to their health and deveopment.</p>\n<p>\n	<b>Additional Information</b><br />\n	No day of race registration. No day of race packet pickup. To reserve your spot and guarantee a shirt\, sign up by April 1st. This year we are pleased to offer tech t-shirts in adult and youth sizes.</p>\n
LOCATION:Coral Canyon
UID:e.1117.2919
SEQUENCE:3
DTSTAMP:20260422T061551Z
URL:https://business.stgeorgechamber.com/events/details/tlc-annual-run-4-kids-04-06-2013-2919
END:VEVENT

END:VCALENDAR
