BEGIN:VCALENDAR
VERSION:2.0
PRODID:-//ChamberMaster//Event Calendar 2.0//EN
METHOD:PUBLISH
X-PUBLISHED-TTL:P3D
REFRESH-INTERVAL:P3D
CALSCALE:GREGORIAN
BEGIN:VEVENT
DTSTART:20140628T020000Z
DTEND:20140629T040000Z
X-MICROSOFT-CDO-ALLDAYEVENT:FALSE
SUMMARY:Timeless Magic Starring Jason Andrews
DESCRIPTION:Not your typical magic show\; a theatrical experience twisting the hands of time.  Classic magic made timeless through dance\, improvisation\, theatrical story telling with modern age interpretations.
X-ALT-DESC;FMTTYPE=text/html:Not your typical magic show\; a theatrical experience twisting the hands of time. &nbsp\;Classic magic made timeless through dance\, improvisation\, theatrical story telling with modern age interpretations. &nbsp\;
LOCATION:Casablanca Showroom Mesquite\, NV
UID:e.1117.5311
SEQUENCE:3
DTSTAMP:20260423T085025Z
URL:https://business.stgeorgechamber.com/events/details/timeless-magic-starring-jason-andrews-06-27-2014-5311
END:VEVENT

END:VCALENDAR
