BEGIN:VCALENDAR
VERSION:2.0
PRODID:-//ChamberMaster//Event Calendar 2.0//EN
METHOD:PUBLISH
X-PUBLISHED-TTL:P3D
REFRESH-INTERVAL:P3D
CALSCALE:GREGORIAN
BEGIN:VEVENT
DTSTART:20140726T050000Z
DTEND:20140727T180000Z
X-MICROSOFT-CDO-ALLDAYEVENT:FALSE
SUMMARY:Thunder over Utah
DESCRIPTION:Aircraft The 2014 Thunder Over Utah Air Show promises to be phenomenal year\, check back soon as we begin to add to our performers and attractions. Featured Performers USN Blue Angels. Here they come!  The world?s most popular jet team will amaze fans with daring combinations of speed\, skill and precision.
X-ALT-DESC;FMTTYPE=text/html:Aircraft The 2014 Thunder Over Utah Air Show promises to be phenomenal year\, check back soon as we begin to add to our performers and attractions. Featured Performers USN Blue Angels. Here they come! &nbsp\;The world?s most popular jet team will amaze fans with daring combinations of speed\, skill and precision.
LOCATION:St George Municipal Airport 4550 South Airport Parkway St. George\, UT
UID:e.1117.5066
SEQUENCE:3
DTSTAMP:20260421T071537Z
URL:https://business.stgeorgechamber.com/events/details/thunder-over-utah-07-25-2014-5066
END:VEVENT

END:VCALENDAR
