BEGIN:VCALENDAR
VERSION:2.0
PRODID:-//ChamberMaster//Event Calendar 2.0//EN
METHOD:PUBLISH
X-PUBLISHED-TTL:P3D
REFRESH-INTERVAL:P3D
CALSCALE:GREGORIAN
BEGIN:VEVENT
DTSTART:20140426T020000Z
DTEND:20140426T040000Z
X-MICROSOFT-CDO-ALLDAYEVENT:FALSE
SUMMARY:Three Dog Night in Concert
DESCRIPTION:Legendary music icons\, THREE DOG NIGHT\, celebrate their 4th decade bringing with them some of the most astonishing statistics in popular music. In the years 1969 through 1974\, no other group achieved more top 10 hits\, moved more records or sold more concert tickets than THREE DOG NIGHT.\n\nTHREE DOG NIGHT's hits wind through the fabric of pop culture today\, whether on the radio where they are heard day in and day out\, in TV commercials or in major motion pictures -- songs like "Mama Told Me (Not To Come)"\, "Joy to the World"\, "Black and White"\, "Shambala" and "One" serve to heighten our emotions and crystallize THREE DOG NIGHT's continuing popularity.
X-ALT-DESC;FMTTYPE=text/html:Legendary music icons\, THREE DOG NIGHT\, celebrate their 4th decade bringing with them some of the most astonishing statistics in popular music. In the years 1969 through 1974\, no other group achieved more top 10 hits\, moved more records or sold more concert tickets than THREE DOG NIGHT.<br />\nTHREE DOG NIGHT&#39\;s hits wind through the fabric of pop culture today\, whether on the radio where they are heard day in and day out\, in TV commercials or in major motion pictures -- songs like &quot\;Mama Told Me (Not To Come)&quot\;\, &quot\;Joy to the World&quot\;\, &quot\;Black and White&quot\;\, &quot\;Shambala&quot\; and &quot\;One&quot\; serve to heighten our emotions and crystallize THREE DOG NIGHT&#39\;s continuing popularity.
LOCATION:Tuacahn 1100 Tuacahn Drive Ivins
UID:e.1117.5198
SEQUENCE:3
DTSTAMP:20260421T112246Z
URL:https://business.stgeorgechamber.com/events/details/three-dog-night-in-concert-04-25-2014-5198
END:VEVENT

END:VCALENDAR
