BEGIN:VCALENDAR
VERSION:2.0
PRODID:-//ChamberMaster//Event Calendar 2.0//EN
METHOD:PUBLISH
X-PUBLISHED-TTL:P3D
REFRESH-INTERVAL:P3D
CALSCALE:GREGORIAN
BEGIN:VEVENT
DTSTART:20151016T160000Z
DTEND:20151017T210000Z
X-MICROSOFT-CDO-ALLDAYEVENT:FALSE
SUMMARY:Third Friday/Saturday Art to Zion Hub tour
DESCRIPTION:Studio Tour - St. George Weaving Studio Visit a Working\, Weaving and Spinning Studio - See displays of work by area weavers. St George Arts and Recreation Dept.
X-ALT-DESC;FMTTYPE=text/html:Studio Tour - St. George Weaving Studio Visit a Working\, Weaving and Spinning Studio - See displays of work by area weavers. St George Arts and Recreation Dept.
LOCATION:400 South Donlee Drive St. George The Hilltop Center
UID:e.1117.7273
SEQUENCE:3
DTSTAMP:20260420T065553Z
URL:https://business.stgeorgechamber.com/events/details/third-friday-saturday-art-to-zion-hub-tour-10-16-2015-7273
END:VEVENT

END:VCALENDAR
