BEGIN:VCALENDAR
VERSION:2.0
PRODID:-//ChamberMaster//Event Calendar 2.0//EN
METHOD:PUBLISH
X-PUBLISHED-TTL:P3D
REFRESH-INTERVAL:P3D
CALSCALE:GREGORIAN
BEGIN:VEVENT
DTSTART:20140810T023000Z
DTEND:20140810T050000Z
X-MICROSOFT-CDO-ALLDAYEVENT:FALSE
SUMMARY:The Wizard of Oz at Tuacahn
DESCRIPTION:?Follow the Yellow Brick Road" and see The Wizard of Oz at Tuacahn.  Dorothy and her little dog Toto join with Scarecrow\, Tin Man and the Cowardly Lion as they journey through the magical Land of Oz to meet the Wizard.  The Wicked Witch of the West and her winged monkeys do their best to prevent them from reaching the Emerald City.\n\n\n\nThe Wizard of Oz is based upon the Classic Motion Picture owned by Turner Entertainment Co. and distributed in all media by Warner Bros.
X-ALT-DESC;FMTTYPE=text/html:?Follow the Yellow Brick Road&quot\; and see The Wizard of Oz at Tuacahn.&nbsp\; Dorothy and her little dog Toto join with Scarecrow\, Tin Man and the Cowardly Lion as they journey through the magical Land of Oz to meet the Wizard.&nbsp\; The Wicked Witch of the West and her winged monkeys do their best to prevent them from reaching the Emerald City.<br />\n<br />\nThe Wizard of Oz is based upon the Classic Motion Picture owned by Turner Entertainment Co. and distributed in all media by Warner Bros.
LOCATION:Tuacahn Amphitheatre 1100 Tuacahn Dr. Ivins\, UT
UID:e.1117.5827
SEQUENCE:3
DTSTAMP:20260421T055434Z
URL:https://business.stgeorgechamber.com/events/details/the-wizard-of-oz-at-tuacahn-08-09-2014-5827
END:VEVENT

END:VCALENDAR
