BEGIN:VCALENDAR
VERSION:2.0
PRODID:-//ChamberMaster//Event Calendar 2.0//EN
METHOD:PUBLISH
X-PUBLISHED-TTL:P3D
REFRESH-INTERVAL:P3D
CALSCALE:GREGORIAN
BEGIN:VEVENT
DTSTART:20160129T023000Z
DTEND:20160207T043000Z
X-MICROSOFT-CDO-ALLDAYEVENT:FALSE
SUMMARY:THE WHITE WHALE\, an original staged adaptation of Hermn Melville's Moby Dick
DESCRIPTION:The White Whale\, Jan. 28-30\; February 2-6\, PG DSU?s Mark Houser and his Divised Theatre Production students bring Herman Melville?s timeless\, great American novel to the stage. As a new theatre work\, this is an exciting adventure and all hands are on deck to make it a production the Theatre world will not soon forget!
X-ALT-DESC;FMTTYPE=text/html:The White Whale\, Jan. 28-30\; February 2-6\, PG DSU?s Mark Houser and his Divised Theatre Production students bring Herman Melville?s timeless\, great American novel to the stage. As a new theatre work\, this is an exciting adventure and all hands are on deck to make it a production the Theatre world will not soon forget!
LOCATION:Corner of 700 East and 100 South\, DSU Campus
UID:e.1117.7083
SEQUENCE:3
DTSTAMP:20260419T235009Z
URL:https://business.stgeorgechamber.com/events/details/the-white-whale-an-original-staged-adaptation-of-hermn-melville-s-moby-dick-01-28-2016-7083
END:VEVENT

END:VCALENDAR
