BEGIN:VCALENDAR
VERSION:2.0
PRODID:-//ChamberMaster//Event Calendar 2.0//EN
METHOD:PUBLISH
X-PUBLISHED-TTL:P3D
REFRESH-INTERVAL:P3D
CALSCALE:GREGORIAN
BEGIN:VEVENT
DTSTART:20160204T023000Z
DTEND:20160204T050000Z
X-MICROSOFT-CDO-ALLDAYEVENT:FALSE
SUMMARY:The Stage Door Presents "Miss Saigon"
DESCRIPTION:Miss Saigon is a musical by Claude-Michel Schoenberg and Alain Boublil ("Les Miserables"). It is based on Giacomo Puccini's opera "Madame Butterfly"\, but relocated to the 1970's during the Vietnam War. It similarly tells the tragic tale of a doomed romance involving an Asian woman abandoned by her American lover.\n\n \n\nThis concert version of the hit Broadway Musical stars James Royce Edwards as Chris\, Brodie Perry as John and Alexa Garcia as Kim and is done in cooperation with the Dixie State University Music Department.
X-ALT-DESC;FMTTYPE=text/html:<p class="plain" style="margin: 0in\; color: rgb(0\, 0\, 0)\; font-family: Helvetica\, Arial\, sans-serif\; font-size: 15px\; line-height: 22.5px\;"><span style="font-size:14px\;"><span style="font-family:arial\;"><font class="plainlarge" style="line-height: 1.4\; font-size: 16px\; font-family: Montserrat\, sans-serif\;">Miss Saigon is a musical by Claude-Michel Schoenberg and Alain Boublil (&quot\;Les Miserables&quot\;). It is based on Giacomo Puccini&rsquo\;s opera &ldquo\;Madame Butterfly&rdquo\;\, but relocated to the 1970&lsquo\;s during the Vietnam War. It similarly tells the tragic tale of a doomed romance involving an Asian woman abandoned by her American lover.</font></span></span></p>\n\n<p class="plain" style="margin: 0in\; color: rgb(0\, 0\, 0)\; font-family: Helvetica\, Arial\, sans-serif\; font-size: 15px\; line-height: 22.5px\;">&nbsp\;</p>\n\n<p class="plain" style="margin: 0in\; color: rgb(0\, 0\, 0)\; font-family: Helvetica\, Arial\, sans-serif\; font-size: 15px\; line-height: 22.5px\;"><span style="font-size:14px\;"><span style="font-family:arial\;"><font class="plainlarge" style="line-height: 1.4\; font-size: 16px\; font-family: Montserrat\, sans-serif\;">This concert version of the hit Broadway Musical stars James Royce Edwards as Chris\, Brodie Perry as John and Alexa Garcia</font><font class="plainlarge" style="line-height: 1.4\; font-size: 16px\; font-family: Montserrat\, sans-serif\;">&nbsp\;as Kim and is done in cooperation with the Dixie State University Music Department.</font></span></span></p>\n
LOCATION:Electric Theater 68 E. Tabernacle St. George\, Utah
UID:e.1117.7401
SEQUENCE:3
DTSTAMP:20260420T013142Z
URL:https://business.stgeorgechamber.com/events/details/the-stage-door-presents-miss-saigon-02-03-2016-7401
END:VEVENT

END:VCALENDAR
