BEGIN:VCALENDAR
VERSION:2.0
PRODID:-//ChamberMaster//Event Calendar 2.0//EN
METHOD:PUBLISH
X-PUBLISHED-TTL:P3D
REFRESH-INTERVAL:P3D
CALSCALE:GREGORIAN
BEGIN:VEVENT
DTSTART:20160604T160000Z
DTEND:20160604T200000Z
X-MICROSOFT-CDO-ALLDAYEVENT:FALSE
SUMMARY:The Stage Door Open House/Super Saturday
DESCRIPTION:Some exciting things are coming this way for THE STAGE DOOR's 2016/2017 season and beyond. On June 4th\, we will be hosting an Open House with various breakout workshops and audition opportunities for some of what The Stage Door has to offer. Come sample a class or two. Sign up for our special events\, camps and/or classes. Find out what performances will be offered this season. 10am-10:40am- The Art of the Audition (All Ages) 10:45am-11:30am- Dance for the Theater and ('Dance for Boys' signups) ( Ages 8-17 years) 10:45am-11:30am- Advanced Dance for the Theater (Ages 10-21 years) 11:30am-12:30pm- Voce Company Auditions 12:30pm-1:30pm- Theater Games/Improv (All Ages) 12:30-2pm-Broadway Bound Summer Camp Auditions (Elf Jr) ONGOING INFORMATION/DISPLAYS 10am-2pm See our website for more information or give us a call.
X-ALT-DESC;FMTTYPE=text/html:Some exciting things are coming this way for THE STAGE DOOR&#39\;s 2016/2017 season and beyond. On June 4th\, we will be hosting an Open House with various breakout workshops and audition opportunities for some of what The Stage Door has to offer. Come sample a class or two. Sign up for our special events\, camps and/or classes. Find out what performances will be offered this season. 10am-10:40am- The Art of the Audition (All Ages) 10:45am-11:30am- Dance for the Theater and (&#39\;Dance for Boys&#39\; signups) ( Ages 8-17 years) 10:45am-11:30am- Advanced Dance for the Theater (Ages 10-21 years) 11:30am-12:30pm- Voce Company Auditions 12:30pm-1:30pm- Theater Games/Improv (All Ages) 12:30-2pm-Broadway Bound Summer Camp Auditions (Elf Jr) ONGOING INFORMATION/DISPLAYS 10am-2pm See our website for more information or give us a call.
LOCATION:The Electric Theater 68 E Tabernacle St George Utah
UID:e.1117.8554
SEQUENCE:3
DTSTAMP:20260419T165329Z
URL:https://business.stgeorgechamber.com/events/details/the-stage-door-open-house-super-saturday-06-04-2016-8554
END:VEVENT

END:VCALENDAR
