BEGIN:VCALENDAR
VERSION:2.0
PRODID:-//ChamberMaster//Event Calendar 2.0//EN
METHOD:PUBLISH
X-PUBLISHED-TTL:P3D
REFRESH-INTERVAL:P3D
CALSCALE:GREGORIAN
BEGIN:VEVENT
DTSTART:20140621T013000Z
DTEND:20140803T040000Z
X-MICROSOFT-CDO-ALLDAYEVENT:FALSE
SUMMARY:The Sound of Music
DESCRIPTION:Come and let us share the classic musical "The Sound of Music" with you.  Experience professional quality theatre in our cute\, quaint\, intimate theatre.
X-ALT-DESC;FMTTYPE=text/html:Come and let us share the classic musical &quot\;The Sound of Music&quot\; with you. &nbsp\;Experience professional quality theatre in our cute\, quaint\, intimate theatre.
LOCATION:Brigham's Playhouse 25 North 300 West Washington\, Ut 84780
UID:e.1117.5290
SEQUENCE:3
DTSTAMP:20260421T055624Z
URL:https://business.stgeorgechamber.com/events/details/the-sound-of-music-06-20-2014-5290
END:VEVENT

END:VCALENDAR
