BEGIN:VCALENDAR
VERSION:2.0
PRODID:-//ChamberMaster//Event Calendar 2.0//EN
METHOD:PUBLISH
X-PUBLISHED-TTL:P3D
REFRESH-INTERVAL:P3D
CALSCALE:GREGORIAN
BEGIN:VEVENT
DTSTART:20151010T010000Z
DTEND:20151010T030000Z
X-MICROSOFT-CDO-ALLDAYEVENT:FALSE
SUMMARY:The Secret Garden at Brigham's Playhouse
DESCRIPTION:Based on the classic novel written by Frances Hodgson Burnett\, this Broadway masterpiece brings the story to life on stage. With a talented cast\, breathtaking music\, and a heart-warming tale\, this production is not to be missed. The Secret Garden is about a young girl\, Mary Lennox\, whose life is turned upside down after her parents die and she has to leave India to move in with an uncle she has never met.  Accompany Mary as she uncovers the secrets of Misselthwaite Manor and its locked garden.
X-ALT-DESC;FMTTYPE=text/html:Based on the classic novel written by Frances Hodgson Burnett\, this Broadway masterpiece brings the story to life on stage. With a talented cast\, breathtaking music\, and a heart-warming tale\, this production is not to be missed.&nbsp\;<em>The Secret Garden</em> is about a young girl\, Mary Lennox\, whose life is turned upside down after her parents die and she has to leave India to move in with an uncle she has never met.&nbsp\;&nbsp\;Accompany Mary as she uncovers the secrets of Misselthwaite Manor and its locked garden.&nbsp\;
LOCATION:Brigham's Playhouse 25 North 300 West\, Washington\, UT
UID:e.1117.7159
SEQUENCE:3
DTSTAMP:20260420T065535Z
URL:https://business.stgeorgechamber.com/events/details/the-secret-garden-at-brigham-s-playhouse-10-09-2015-7159
END:VEVENT

END:VCALENDAR
