BEGIN:VCALENDAR
VERSION:2.0
PRODID:-//ChamberMaster//Event Calendar 2.0//EN
METHOD:PUBLISH
X-PUBLISHED-TTL:P3D
REFRESH-INTERVAL:P3D
CALSCALE:GREGORIAN
BEGIN:VEVENT
DTSTART:20150311T010000Z
DTEND:20150419T034500Z
X-MICROSOFT-CDO-ALLDAYEVENT:FALSE
SUMMARY:The Scarlet Pimpernel
DESCRIPTION:Through the streets of Paris\, roves the audacious Scarlet Pimpernel! In order to save his friends from Madame Guillotine\, dashing young British Aristocrat\, Percy Blakeney must disguise himself and with his cover chaos ensues. In this story of passion\, betrayal\, rebellion and love set during the French Revolution comes some of the most beautiful pieces of musical theatre\, written by the acclaimed Frank Wildhorn\, writer of Jekyll & Hyde. Playing March 10th- April 18th\, Tuesday-Saturday at 7:00 p.m. with Saturday matinee's at 2:00 p.m. Experience the majesty and thrill of this entrancing musical at Brigham's Playhouse!
X-ALT-DESC;FMTTYPE=text/html:Through the streets of Paris\, roves the audacious Scarlet Pimpernel! In order to save his friends from Madame Guillotine\, dashing young British Aristocrat\, Percy Blakeney must disguise himself and with his cover&nbsp\;chaos ensues. In this story of passion\, betrayal\, rebellion and love set during the French Revolution comes some of the most beautiful pieces of musical theatre\, written by the acclaimed Frank Wildhorn\, writer of Jekyll &amp\; Hyde. Playing March 10th- April 18th\, Tuesday-Saturday at 7:00 p.m. with Saturday matinee&#39\;s at 2:00 p.m. Experience the majesty and thrill of this entrancing musical at Brigham&#39\;s Playhouse!
LOCATION:Brigham's Playhouse 25 N. 300 W. Washington\, Utah 84780
UID:e.1117.6310
SEQUENCE:3
DTSTAMP:20260420T190837Z
URL:https://business.stgeorgechamber.com/events/details/the-scarlet-pimpernel-03-10-2015-6310
END:VEVENT

END:VCALENDAR
