BEGIN:VCALENDAR
VERSION:2.0
PRODID:-//ChamberMaster//Event Calendar 2.0//EN
METHOD:PUBLISH
X-PUBLISHED-TTL:P3D
REFRESH-INTERVAL:P3D
CALSCALE:GREGORIAN
BEGIN:VEVENT
DTSTART:20130629T010000Z
DTEND:20130629T040000Z
X-MICROSOFT-CDO-ALLDAYEVENT:FALSE
SUMMARY:The Refinement Tour featuring artists from NBC's "The Voice"
DESCRIPTION:Three Utah contestants who made it past the battle round of the popular national TV talent show "The Voice\," will head out on a summer concert tour sponsored by Refinement Records\, a new artist development company in Draper. The three   Ryan Innes\, Amy Whitcomb and the group Midas Whale   will be in St. George\, Utah on June 28 at 7:00PM at the Cox Auditorium. Atlantic Records band\, Fictionist will also appear.\n\nAdam Reader\, president and founder of Refinement Records\, said the tour idea was hatched with Sammy Schultz\, VP of Artist Management\, to bring these talented musicians closer to their fan base and catch the excitement the three created during national broadcasts of "The Voice." Schultz has worked with all three of theses artists many times over the last few years. Reader said\, "Sam is an amazing promoter and has put on a multitude of concerts all over."\n\n"We have remarkable musical talent in Utah that are getting national recognition\," said Reader. "To see three contestants from the state compete so well with others across the country on "The Voice" is just another acknowledgement that there's something very special here. I believe that Utah has the ability to be what Seattle was in the early 90s   a musical haven for great acts that will have a national following."\n\nThe concert will be held at the Cox  Auditorium located on the campus of Dixie State University. Tickets are on sale at the Dixie Ticket Box Office and online at http://dixiestatetickets.com. For more details go to www.refinementrecords.com.\n\n \n\nThis concert is sponsored by Dixie Ophthalmic Specialist at Zion Eye Institute\, Blake Bench of First Colony Mortgage\, STGNews.com\, netQuest Social Media Consulting\, and Dixie State University.
X-ALT-DESC;FMTTYPE=text/html:<span style="font-family:arial\,sans-serif\;"><span style="font-size:11.0pt\;">Three Utah contestants who made it past the battle round of the popular national TV talent show &ldquo\;The Voice\,&rdquo\; will head out on a summer concert tour sponsored by Refinement Records\, a new artist development company in Draper. The three &ndash\; Ryan Innes\, Amy Whitcomb and the group Midas Whale &ndash\; will be in&nbsp\;St. George\, Utah on June 28 at 7:00PM at the Cox Auditorium. Atlantic Records band\, Fictionist will also appear.</span></span><br />\n<span style="font-family:arial\,sans-serif\;"><span style="font-size:11.0pt\;">Adam Reader\, president and founder of Refinement Records\, said the tour idea was hatched with Sammy Schultz\, VP of Artist Management\, to bring these talented musicians closer to their fan base and catch the excitement the three created during national broadcasts of &ldquo\;The Voice.&rdquo\; Schultz has worked with all three of theses artists many times over the last few years. Reader said\, &ldquo\;Sam is an amazing promoter and has put on a multitude of concerts all over.&rdquo\;</span></span><br />\n<span style="font-family: arial\, sans-serif\; font-size: 11pt\;">&ldquo\;We have remarkable musical talent in Utah that are getting national recognition\,&rdquo\; said</span>&nbsp\;<span style="font-family:arial\,sans-serif\;"><span style="font-size:11.0pt\;">Reader. &ldquo\;To see three contestants from the state compete so well with others across the country on &ldquo\;The Voice&rdquo\; is just another acknowledgement that there&rsquo\;s something very special here. I believe that Utah has the ability to be what Seattle was in the early 90s &ndash\; a musical haven for great acts that will have a national following.&rdquo\;</span></span><br />\n<span style="font-family:arial\,sans-serif\;"><span style="font-size:11.0pt\;">The concert will be held at the Cox&nbsp\; Auditorium&nbsp\;located on the campus of Dixie State University. Tickets are on sale at the Dixie Ticket Box Office and online at <a href="http://dixiestatetickets.com">http://dixiestatetickets.com</a>. For more details go to <a href="http://www.refinementrecords.com">www.refinementrecords.com</a>.</span></span><br />\n&nbsp\;<br />\n<span style="font-family:arial\,sans-serif\;"><span style="font-size:11.0pt\;">This concert is sponsored by Dixie Ophthalmic Specialist at Zion Eye Institute\, Blake Bench of First Colony Mortgage\, STGNews.com\,&nbsp\;</span></span><span style="font-family:arial\,sans-serif\;"><span style="font-size:11.5pt\;">netQuest Social Media Consulting\, and Dixie State University.&nbsp\;</span></span><br />\n
LOCATION:Cox Auditorium Dixie State University
UID:e.1117.4133
SEQUENCE:3
DTSTAMP:20260422T024312Z
URL:https://business.stgeorgechamber.com/events/details/the-refinement-tour-featuring-artists-from-nbc-s-the-voice-06-28-2013-4133
END:VEVENT

END:VCALENDAR
