BEGIN:VCALENDAR
VERSION:2.0
PRODID:-//ChamberMaster//Event Calendar 2.0//EN
METHOD:PUBLISH
X-PUBLISHED-TTL:P3D
REFRESH-INTERVAL:P3D
CALSCALE:GREGORIAN
BEGIN:VEVENT
DTSTART:20150328T013000Z
DTEND:20150328T040000Z
X-MICROSOFT-CDO-ALLDAYEVENT:FALSE
SUMMARY:The Pink Floyd Experience at Tuacahn
DESCRIPTION:Without question\, Pink Floyd remains one of the most influential rock bands of all time. Their record-breaking status is legendary. Now get ready for PFX-THE PINK FLOYD EXPERIENCE performing 4 SIDES OF FLOYD.\n\nComplete with a spectacular light show\, full quadraphonic sound and six brilliant musicians covering four complete album sides off of four beloved classic Pink Floyd albums\, as well as a set of Greatest Hits including "Money"\, "Wish You Were Here"\, "Comfortably Numb" and more...live! Audiences are raving about this epic concert.
X-ALT-DESC;FMTTYPE=text/html:Without question\, Pink Floyd remains one of the most influential rock bands of all time. Their record-breaking status is legendary. Now get ready for PFX-THE PINK FLOYD EXPERIENCE performing 4 SIDES OF FLOYD.<br />\nComplete with a spectacular light show\, full quadraphonic sound and six brilliant musicians covering four complete album sides off of four beloved classic Pink Floyd albums\, as well as a set of Greatest Hits including &ldquo\;Money&rdquo\;\, &ldquo\;Wish You Were Here&rdquo\;\, &ldquo\;Comfortably Numb&rdquo\; and more...live! Audiences are raving about this epic concert.
LOCATION:Tuacahn Amphitheater 1100 Tuacahn Drive Ivins\, Utah
UID:e.1117.6312
SEQUENCE:3
DTSTAMP:20260420T190837Z
URL:https://business.stgeorgechamber.com/events/details/the-pink-floyd-experience-at-tuacahn-03-27-2015-6312
END:VEVENT

END:VCALENDAR
