BEGIN:VCALENDAR
VERSION:2.0
PRODID:-//ChamberMaster//Event Calendar 2.0//EN
METHOD:PUBLISH
X-PUBLISHED-TTL:P3D
REFRESH-INTERVAL:P3D
CALSCALE:GREGORIAN
BEGIN:VEVENT
DTSTART:20151115T023000Z
DTEND:20151115T050000Z
X-MICROSOFT-CDO-ALLDAYEVENT:FALSE
SUMMARY:The Nashville Tribute Band
DESCRIPTION:Award-winning songwriter and Nashville record producer Jason Deere regularly invites a revolving cast of talented artists and musicians that he calls the Nashville Tribute Band to join him in touring the world performing the stories and songs from the albums Joseph: A Nashville Tribute To The Prophet\, Trek: A Nashville Tribute To The Pioneers and THE WORK: A Nashville Tribute To The Missionaries.\n\nOver the years Dan Truman (of the Grammy Award-winning country group Diamond Rio)\, Brad Hull\, Matt Lopez and Tim Gates (of the country group Due West)\, entertainer David Osmond\, actor and recording artist Katherine Nelson\, country artist Billy Dean\, Ron Saltmarsh\, pop artist Mindy Gledhill and Dyer Highway are all among those who have often joined the stage with the band.\n\nThe band has done over 500 shows for audiences in the U.S.\, Canada\, Australia and China since 2004. They have performed in the Conference Center in Salt Lake City as well as several performances in the Tabernacle on Temple Square.
X-ALT-DESC;FMTTYPE=text/html:<span style="color:#000000\;"><span style="font-size:14px\;"><span style="font-family:arial\;">Award-winning songwriter and Nashville record producer Jason Deere regularly invites a revolving cast of talented artists and musicians that he calls the Nashville Tribute Band to join him in touring the world performing the stories and songs from the albums Joseph: A Nashville Tribute To The Prophet\, Trek: A Nashville Tribute To The Pioneers and THE WORK: A Nashville Tribute To The Missionaries.<br />\nOver the years Dan Truman (of the Grammy Award-winning country group Diamond Rio)\, Brad Hull\, Matt Lopez and Tim Gates (of the country group Due West)\, entertainer David Osmond\, actor and recording artist Katherine Nelson\, country artist Billy Dean\, Ron Saltmarsh\, pop artist Mindy Gledhill and Dyer Highway are all among those who have often joined the stage with the band.<br />\nThe band has done over 500 shows for audiences in the U.S.\, Canada\, Australia and China since 2004. They have performed in the Conference Center in Salt Lake City as well as several performances in the Tabernacle on Temple Square.</span></span></span>
LOCATION:Tuacahn Amphitheatre 1100 Tuacahn Drive Ivins\, UT
UID:e.1117.7340
SEQUENCE:3
DTSTAMP:20260420T051429Z
URL:https://business.stgeorgechamber.com/events/details/the-nashville-tribute-band-11-14-2015-7340
END:VEVENT

END:VCALENDAR
