BEGIN:VCALENDAR
VERSION:2.0
PRODID:-//ChamberMaster//Event Calendar 2.0//EN
METHOD:PUBLISH
X-PUBLISHED-TTL:P3D
REFRESH-INTERVAL:P3D
CALSCALE:GREGORIAN
BEGIN:VEVENT
DTSTART:20130921T160000Z
DTEND:20130921T200000Z
X-MICROSOFT-CDO-ALLDAYEVENT:FALSE
SUMMARY:The Learning Center for Families 20th Anniversary Celebration
DESCRIPTION:
X-ALT-DESC;FMTTYPE=text/html:
LOCATION:St. George Town Square
UID:e.1117.4138
SEQUENCE:3
DTSTAMP:20260421T213842Z
URL:https://business.stgeorgechamber.com/events/details/the-learning-center-for-families-20th-anniversary-celebration-09-21-2013-4138
END:VEVENT

END:VCALENDAR
