BEGIN:VCALENDAR
VERSION:2.0
PRODID:-//ChamberMaster//Event Calendar 2.0//EN
METHOD:PUBLISH
X-PUBLISHED-TTL:P3D
REFRESH-INTERVAL:P3D
CALSCALE:GREGORIAN
BEGIN:VEVENT
DTSTART;VALUE=DATE:20131011
DTEND;VALUE=DATE:20131014
TRANSP:TRANSPARENT
X-MICROSOFT-CDO-ALLDAYEVENT:TRUE
SUMMARY:The Kayenta Arts Festival 2013
DESCRIPTION:Art in Kayenta Festival has become a signature event for the Kayenta Community. It has included an array of art and artists showing and selling their work. The Coyote Gulch Art Village is the venue for the event. Artist's booths are arranged within the village and close to adjacent parking. Food vendors\, live music and theatrical performances have also become apart of the festival.    \n\n\n\n\n\nOur 14th annual festival held in the Coyote Gulch Art Village. Come experience a cluster of galleries\, shops\, and a cafe with a backdrop of red rock mountains and desert gardens. Casual style and comfortable shoes a must!
X-ALT-DESC;FMTTYPE=text/html:<b><span style="font-family: Georgia\,&quot\;Times New Roman&quot\;\,serif\;"><span style="font-size: small\;"><i>Art in Kayenta Festival has become a signature event for the Kayenta Community. It has included an array of art and artists showing and selling their work. The Coyote Gulch Art Village is the venue for the event. Artist&#39\;s booths are arranged within the village and close to adjacent parking. Food vendors\, live music and theatrical performances have also become apart of the festival.&nbsp\;&nbsp\;&nbsp\; </i></span></span></b><br />\n<br />\n<br />\n<b><span style="font-family: Georgia\,&quot\;Times New Roman&quot\;\,serif\;"><span style="font-size: small\;"><i>Our 14th annual festival held in the Coyote Gulch Art Village. Come experience a cluster of galleries\, shops\, and a cafe with a backdrop of red rock mountains and desert gardens. Casual style and comfortable shoes a must!</i></span></span></b><br />\n&nbsp\;<br />\n
LOCATION:The Coyote Gulch Art Village in Kayenta\, Ivins Utah.
UID:e.1117.2674
SEQUENCE:3
DTSTAMP:20260421T201848Z
URL:https://business.stgeorgechamber.com/events/details/the-kayenta-arts-festival-2013-10-11-2013-2674
END:VEVENT

END:VCALENDAR
