BEGIN:VCALENDAR
VERSION:2.0
PRODID:-//ChamberMaster//Event Calendar 2.0//EN
METHOD:PUBLISH
X-PUBLISHED-TTL:P3D
REFRESH-INTERVAL:P3D
CALSCALE:GREGORIAN
BEGIN:VEVENT
DTSTART:20160125T233000Z
DTEND:20160126T043000Z
X-MICROSOFT-CDO-ALLDAYEVENT:FALSE
SUMMARY:The Jordan World Circus 2016
DESCRIPTION:"EARLY BIRDS DISCOUNT AVAILABLE NOW" With three rings of affordable family fun\, "The Jordan World Circus" will thrill fans of all ages. Come see the death-defying aerial acts\, animal attractions including tigers and elephants. In addition to the performing acts\, kids will have the unique opportunity to ride and pet different types of animals. *** Acts are subject to change *** HURRICANE\, UT Washington County Regional Park Monday\, January 25th * 4:30 & 7:30 PM *-*-*Once online sales have finished\, you can only purchase tickets at the circus location. We open doors one hour before the event!!
X-ALT-DESC;FMTTYPE=text/html:&quot\;EARLY BIRDS DISCOUNT AVAILABLE NOW&quot\; With three rings of affordable family fun\, &quot\;The Jordan World Circus&quot\; will thrill fans of all ages. Come see the death-defying aerial acts\, animal attractions including tigers and elephants. In addition to the performing acts\, kids will have the unique opportunity to ride and pet different types of animals. *** Acts are subject to change *** HURRICANE\, UT Washington County Regional Park Monday\, January 25th * 4:30 &amp\; 7:30 PM *-*-*Once online sales have finished\, you can only purchase tickets at the circus location. We open doors one hour before the event!!
LOCATION:Washington Co. Regional Park 5500 W. 700 S. Hurricane\, UT 84737
UID:e.1117.7354
SEQUENCE:3
DTSTAMP:20260420T012842Z
URL:https://business.stgeorgechamber.com/events/details/the-jordan-world-circus-2016-01-25-2016-7354
END:VEVENT

END:VCALENDAR
