BEGIN:VCALENDAR
VERSION:2.0
PRODID:-//ChamberMaster//Event Calendar 2.0//EN
METHOD:PUBLISH
X-PUBLISHED-TTL:P3D
REFRESH-INTERVAL:P3D
CALSCALE:GREGORIAN
BEGIN:VEVENT
DTSTART:20150127T020000Z
DTEND:20150127T040000Z
X-MICROSOFT-CDO-ALLDAYEVENT:FALSE
SUMMARY:The Jordan World Circus 2015
DESCRIPTION:"The Jordan World Circus" will thrill fans of all ages. Come see the death-defying aerial acts\, animal attractions including tigers and elephants. In addition to the performing acts\, kids will have the unique opportunity to ride and pet different types of animals. *** Acts are subject to change *** *-*-*Once online sales have finished\, you can only purchase tickets at the circus location. We open doors one hour before the event!! "EARLY BIRDS DISCOUNT AVAILABLE NOW" http://www.eventbrite.com
X-ALT-DESC;FMTTYPE=text/html:&quot\;The Jordan World Circus&quot\; will thrill fans of all ages. Come see the death-defying aerial acts\, animal attractions including tigers and elephants. In addition to the performing acts\, kids will have the unique opportunity to ride and pet different types of animals. *** Acts are subject to change *** *-*-*Once online sales have finished\, you can only purchase tickets at the circus location. We open doors one hour before the event!! &quot\;EARLY BIRDS DISCOUNT AVAILABLE NOW&quot\; http://www.eventbrite.com
LOCATION:Washington Co. Regional Park 5500 W. 700 S. Hurricane\, UT 84737
UID:e.1117.6236
SEQUENCE:3
DTSTAMP:20260420T232413Z
URL:https://business.stgeorgechamber.com/events/details/the-jordan-world-circus-2015-01-26-2015-6236
END:VEVENT

END:VCALENDAR
