BEGIN:VCALENDAR
VERSION:2.0
PRODID:-//ChamberMaster//Event Calendar 2.0//EN
METHOD:PUBLISH
X-PUBLISHED-TTL:P3D
REFRESH-INTERVAL:P3D
CALSCALE:GREGORIAN
BEGIN:VEVENT
DTSTART:20130604T010000Z
DTEND:20130604T030000Z
X-MICROSOFT-CDO-ALLDAYEVENT:FALSE
SUMMARY:The Jordan World Circus 2013
DESCRIPTION:JORDAN WORLD CIRCUS Hurricane\, UT Washington Co. Regional Park Monday  June 3rd  * 7:00 Pm Only   **Free Children Tickets Available On Our Web Page** TICKETS AVAILABLE THEJORDANWORLDCIRCUS.COM  FaceBook: The Jordan World Circus
X-ALT-DESC;FMTTYPE=text/html:JORDAN WORLD CIRCUS Hurricane\, UT Washington Co. Regional Park Monday &nbsp\;June 3rd &nbsp\;* 7:00 Pm Only &nbsp\; **Free Children Tickets Available On Our Web Page** TICKETS AVAILABLE THEJORDANWORLDCIRCUS.COM&nbsp\; FaceBook: The Jordan World Circus 
LOCATION:Washington Co. Regional Park 5500 W. 700 S. Hurricane\, UT 84737
UID:e.1117.2961
SEQUENCE:3
DTSTAMP:20260422T023734Z
URL:https://business.stgeorgechamber.com/events/details/the-jordan-world-circus-2013-06-03-2013-2961
END:VEVENT

END:VCALENDAR
