BEGIN:VCALENDAR
VERSION:2.0
PRODID:-//ChamberMaster//Event Calendar 2.0//EN
METHOD:PUBLISH
X-PUBLISHED-TTL:P3D
REFRESH-INTERVAL:P3D
CALSCALE:GREGORIAN
BEGIN:VEVENT
DTSTART:20131124T010000Z
DTEND:20131124T040000Z
X-MICROSOFT-CDO-ALLDAYEVENT:FALSE
SUMMARY:The Fur and Purr Bash
DESCRIPTION:NKAS - Ivins No Kill Animal Supporters presents the Second Annual Fur & Purr Bash for the benefit of the Ivins No Kill Animal Shelter.\n\n	Music by "Johnny Van Band" a classic Folk Rock band Culinary delights from Red Mountain's Chef Chad Leuthje\n\n	Arts & Crafts Auction - Cash Bar - Raffle & Door Prizes
X-ALT-DESC;FMTTYPE=text/html:<p style="color: rgb(0\, 0\, 0)\; font-family: Arial\, Helvetica\, sans-serif\;">\n	NKAS - Ivins No Kill Animal Supporters presents the Second Annual Fur &amp\; Purr Bash for the benefit of the Ivins No Kill Animal Shelter.</p>\n<p style="color: rgb(0\, 0\, 0)\; font-family: Arial\, Helvetica\, sans-serif\;">\n	Music by &quot\;Johnny Van Band&quot\; a classic Folk Rock band Culinary delights from Red Mountain&#39\;s Chef Chad Leuthje</p>\n<p style="color: rgb(0\, 0\, 0)\; font-family: Arial\, Helvetica\, sans-serif\;">\n	Arts &amp\; Crafts Auction - Cash Bar - Raffle &amp\; Door Prizes</p>\n
LOCATION:Red Mountain Resort Snow Canyon Room 2nd Floor
UID:e.1117.4955
SEQUENCE:3
DTSTAMP:20260421T182522Z
URL:https://business.stgeorgechamber.com/events/details/the-fur-and-purr-bash-11-23-2013-4955
END:VEVENT

END:VCALENDAR
