BEGIN:VCALENDAR
VERSION:2.0
PRODID:-//ChamberMaster//Event Calendar 2.0//EN
METHOD:PUBLISH
X-PUBLISHED-TTL:P3D
REFRESH-INTERVAL:P3D
CALSCALE:GREGORIAN
BEGIN:VEVENT
DTSTART;VALUE=DATE:20130831
DTEND;VALUE=DATE:20130901
TRANSP:TRANSPARENT
X-MICROSOFT-CDO-ALLDAYEVENT:TRUE
SUMMARY:The Falls Event Center Grand Opening
DESCRIPTION:Open House to Public:  10:00am   3:00pm\n\n          Live Radio Remote\n\n          Tours of Property & Kids Activity\n\n          Glenn Morshower will be at The Falls to sign autographs at 1:00pm\n\nShareholders Meeting:  Doors open at 4:00pm\n\n      Meeting starts at 5:00pm (Shareholders only)\n\n          Light Hors d'oeuvres and drinks at 6:00pm\n\n          Guitar by Ivan Odom\n\nComplimentary Limo Shuttle from The Hilton Garden Inn to and from The Falls\n\nProvided by St. George Shuttle\n\no   To The Falls:   4:00pm  4:30pm  5:00pm\n\no   To The Hilton:  8:00pm  9:00pm 10:00pm\n\nPrivate Party:  6:30pm   11:00pm\n\n   Enjoy Live Music by Soul What a local band\n\n          6:00pm   7:30pm  -break-  9:00pm   10:30pm\n\n   Entertainment:  7:30pm   9:00pm  The Extra Mile  / Glenn Morshower\n\n   Food catered by Katering Koncepts & Sub Zero throughout the evening\n\n   Kids room for out of town guests from 5:00pm to 10:00pm\n\n   Photography Booth provided by Christa Kerlin
X-ALT-DESC;FMTTYPE=text/html:<span style="font-family:arial\,sans-serif\;">Open House to Public:&nbsp\; 10:00am &ndash\; 3:00pm</span><br />\n<span style="font-family:symbol\;">&middot\;&nbsp\;&nbsp\;&nbsp\;&nbsp\;&nbsp\;&nbsp\;&nbsp\;&nbsp\; </span><span style="font-family:arial\,sans-serif\;">Live Radio Remote</span><br />\n<span style="font-family:symbol\;">&middot\;&nbsp\;&nbsp\;&nbsp\;&nbsp\;&nbsp\;&nbsp\;&nbsp\;&nbsp\; </span><span style="font-family:arial\,sans-serif\;">Tours of Property &amp\; Kids Activity</span><br />\n<span style="font-family:symbol\;">&middot\;&nbsp\;&nbsp\;&nbsp\;&nbsp\;&nbsp\;&nbsp\;&nbsp\;&nbsp\; </span><span style="font-family:arial\,sans-serif\;">Glenn Morshower will be at The Falls to sign autographs at 1:00pm</span><br />\n<span style="font-family:arial\,sans-serif\;">Shareholders Meeting:&nbsp\; Doors open at 4:00pm</span><br />\n<span style="font-family:arial\,sans-serif\;">&nbsp\;&nbsp\;&nbsp\;&nbsp\;&nbsp\; Meeting starts at 5:00pm (Shareholders only)</span><br />\n<span style="font-family:symbol\;">&middot\;&nbsp\;&nbsp\;&nbsp\;&nbsp\;&nbsp\;&nbsp\;&nbsp\;&nbsp\; </span><span style="font-family:arial\,sans-serif\;">Light Hors d&#39\;oeuvres and drinks at 6:00pm</span><br />\n<span style="font-family:symbol\;">&middot\;&nbsp\;&nbsp\;&nbsp\;&nbsp\;&nbsp\;&nbsp\;&nbsp\;&nbsp\; </span><span style="font-family:arial\,sans-serif\;">Guitar by Ivan Odom</span><br />\n<span style="font-family:arial\,sans-serif\;">Complimentary Limo Shuttle from The Hilton Garden Inn to and from The Falls</span><br />\n<span style="font-family:arial\,sans-serif\;">Provided by St. George Shuttle</span><br />\n<span style="font-family:courier new\;">o&nbsp\;&nbsp\; </span><span style="font-family:arial\,sans-serif\;">To The Falls:&nbsp\;&nbsp\; 4:00pm&nbsp\; 4:30pm&nbsp\; 5:00pm</span><br />\n<span style="font-family:courier new\;">o&nbsp\;&nbsp\; </span><span style="font-family:arial\,sans-serif\;">To The Hilton:&nbsp\; 8:00pm &nbsp\;9:00pm 10:00pm</span><br />\n<span style="font-family:arial\,sans-serif\;">Private Party:&nbsp\; 6:30pm &ndash\; 11:00pm</span><br />\n<span style="font-family:wingdings\;">&sect\;&nbsp\; </span><span style="font-family:arial\,sans-serif\;">Enjoy Live Music by <em>Soul What</em> a local band</span><br />\n<span style="font-family:symbol\;">&middot\;&nbsp\;&nbsp\;&nbsp\;&nbsp\;&nbsp\;&nbsp\;&nbsp\;&nbsp\; </span><span style="font-family:arial\,sans-serif\;">6:00pm &ndash\; 7:30pm&nbsp\; -break-&nbsp\; 9:00pm &ndash\; 10:30pm</span><br />\n<span style="font-family:wingdings\;">&sect\;&nbsp\; </span><span style="font-family:arial\,sans-serif\;">Entertainment:&nbsp\; 7:30pm &ndash\; 9:00pm&nbsp\; The Extra Mile&nbsp\; / Glenn Morshower</span><br />\n<span style="font-family:wingdings\;">&sect\;&nbsp\; </span><span style="font-family:arial\,sans-serif\;">Food catered by Katering Koncepts &amp\; Sub Zero throughout the evening</span><br />\n<span style="font-family:wingdings\;">&sect\;&nbsp\; </span><span style="font-family:arial\,sans-serif\;">Kids room for out of town guests from 5:00pm to 10:00pm</span><br />\n<span style="font-family:wingdings\;">&sect\;&nbsp\; </span><span style="font-family:arial\,sans-serif\;">Photography Booth provided by Christa Kerlin</span><br />\n
LOCATION:The Falls Event Center 170 S. Mall Drive St. George\, Utah
UID:e.1117.4270
SEQUENCE:3
DTSTAMP:20260422T011353Z
URL:https://business.stgeorgechamber.com/events/details/the-falls-event-center-grand-opening-08-31-2013-4270
END:VEVENT

END:VCALENDAR
