BEGIN:VCALENDAR
VERSION:2.0
PRODID:-//ChamberMaster//Event Calendar 2.0//EN
METHOD:PUBLISH
X-PUBLISHED-TTL:P3D
REFRESH-INTERVAL:P3D
CALSCALE:GREGORIAN
BEGIN:VEVENT
DTSTART:20160226T023000Z
DTEND:20160306T043000Z
X-MICROSOFT-CDO-ALLDAYEVENT:FALSE
SUMMARY:THE COUNTRY WIFE\, A Restoration Comedy
DESCRIPTION:The Country Wife\, Restoration Comedy\, Feb. 25-27\; March 1-5\, PG13 Horner\, a notorious man-about-town has an ingenious scheme to seduce many women of London society. Pinchwife desperately attempts to keep his na ve new bride from the clutches London bachelors. When she and Horner meet\, events spiral out of control. Directed by Michael Harding. Adapted by Michael Harding\, Mindi Kirk and Alex Pizzo.
X-ALT-DESC;FMTTYPE=text/html:The Country Wife\, Restoration Comedy\, Feb. 25-27\; March 1-5\, PG13 Horner\, a notorious man-about-town has an ingenious scheme to seduce many women of London society. Pinchwife desperately attempts to keep his na&iuml\;ve new bride from the clutches London bachelors. When she and Horner meet\, events spiral out of control. Directed by Michael Harding. Adapted by Michael Harding\, Mindi Kirk and Alex Pizzo.
LOCATION:Corner of 700 East and 100 South\, DSU Campus
UID:e.1117.7084
SEQUENCE:3
DTSTAMP:20260419T220141Z
URL:https://business.stgeorgechamber.com/events/details/the-country-wife-a-restoration-comedy-02-25-2016-7084
END:VEVENT

END:VCALENDAR
